BEGIN:VCALENDAR
VERSION:2.0
PRODID:-//wp-events-plugin.com//7.2.3.1//EN
TZID:Australia/Sydney
X-WR-TIMEZONE:Australia/Sydney
BEGIN:VEVENT
UID:2187@unswoc.org
DTSTART;VALUE=DATE:20171029
DTEND;VALUE=DATE:20171030
DTSTAMP:20171026T203621Z
URL:https://unswoc.org/wordpress/events/quest-say-pipeline-go/
SUMMARY:A Quest you say? Down the pipeline we go...
DESCRIPTION:Grab your rucksack\, neoprene tunic and waxed leather canteen!\
 n\nDion and I request a summons with any brave hearted hero willing set of
 f on an adventure down Pipeline canyon. Be you a\; King\, Queen\, Knight 
 or Pheasant (experienced to beginner) we welcome you to add your name to t
 he ranks of our pleasant little company. When chosen\, expect a mystical j
 ourney to a faraway land of mossy rocks\, enchanted pools and abseiling. W
 e will set foot from camp Sunday morning\, but you must be attending Boree
  log in order to be accepted on this quest. It will be a long day and a mo
 derate fitness level is expected.\n\nYou will be expected provide the foll
 owing equipment yourselves:\n\n	Thermals\n	Backpack\n	Lunch\n	Snacks (pref
 erably sugary ones)\n	Dry bag\n	Enclosed shoes (volleys are best)\n	Hat/su
 nscreen\n	Wool socks\n	Headtorch\n	Dry clothes\n\nWe can provide the follo
 wing equipment if you don't have your own:\n\n	Wetsuit\n	Helmet\n	Harness\
 n	Descender\n	Locking biner x2\n	Safety sling\n\nAdditional Notes:\n- If y
 ou wear/bring cotton socks you will be left at the campsite\n- If you have
  your own spaceblanket\, waterproof camera or first aid kit feel free to b
 ring it!
ATTACH;FMTTYPE=image/jpeg:https://unswoc.org/wordpress/wp-content/uploads/
 2017/10/bilbo-baggins-2012-hobbit-pipe1.jpeg
CATEGORIES:Boree Log,Canyoning
END:VEVENT
END:VCALENDAR