BEGIN:VCALENDAR
VERSION:2.0
PRODID:-//wp-events-plugin.com//7.2.3.1//EN
TZID:Australia/Sydney
X-WR-TIMEZONE:Australia/Sydney
BEGIN:VEVENT
UID:1468@unswoc.org
DTSTART:20150919T203000Z
DTEND:20150920T010000Z
DTSTAMP:20150918T064052Z
URL:https://unswoc.org/wordpress/events/queens-park-bouldering/
SUMMARY:Queen's Park Bouldering (Mats for Matt)
DESCRIPTION:Howdy\n\nPlanning on checking out our friendly neighbourhood b
 oulders this weekend. This will depend on the weather - rain is forecast f
 or Saturday and Sunday so there is a chance this event will be moved or ca
 ncelled. Sign up and message me on Facebook so I can keep you updated.\n\n
 I will have 4 mats (probably driving them there). Close to uni\, so if you
  live close by come along!\n\nWhat to Bring:\n\n	Climbing shoes and chalk\
 n	Food (to share if you can!)\n	Any mats you have. Matt is doing a high al
 l V9 (hence the name)\n\nTHE CRAG GUIDE\n\n&nbsp\;\n\n&nbsp\;\n\n&nbsp\;
CATEGORIES:Outdoor Climbing
LOCATION:Queen's Park Boulders\, 37 Henry St\, Queen's Park\, Australia
GEO:-33.901306;151.251266
X-APPLE-STRUCTURED-LOCATION;VALUE=URI;X-ADDRESS=37 Henry St\, Queen's Park\
 , Australia;X-APPLE-RADIUS=100;X-TITLE=Queen's Park Boulders:geo:-33.90130
 6,151.251266
END:VEVENT
END:VCALENDAR