BEGIN:VCALENDAR
VERSION:2.0
PRODID:-//wp-events-plugin.com//7.2.3.1//EN
TZID:Australia/Sydney
X-WR-TIMEZONE:Australia/Sydney
BEGIN:VEVENT
UID:1969@unswoc.org
DTSTART:20160307T210000Z
DTEND:20160307T210000Z
DTSTAMP:20160307T094857Z
URL:https://unswoc.org/wordpress/events/queens-park-bouldering-8am/
SUMMARY:Queens park bouldering 8am
DESCRIPTION:Morning boulder at Queens park for anyone that way inclined. 8a
 m\, only 2 bouldering mats currently so anyone with their own/access to a 
 club one would be great.
CATEGORIES:Bouldering
END:VEVENT
END:VCALENDAR