BEGIN:VCALENDAR
VERSION:2.0
PRODID:-//wp-events-plugin.com//7.2.3.1//EN
TZID:Australia/Sydney
X-WR-TIMEZONE:Australia/Sydney
BEGIN:VEVENT
UID:2213@unswoc.org
DTSTART:20180228T073000Z
DTEND:20180228T110000Z
DTSTAMP:20180226T070256Z
URL:https://unswoc.org/wordpress/events/queens-park-boulder-chill/
SUMMARY:Queens Park Boulder & Chill
DESCRIPTION:Hey all\n\nCome down to Queens Park for some bouldering and chi
 lls... All are welcome!\n\nWhat to bring:\n\nHeadtourch/light\n\nClimbing 
 shoes\n\nChalk\n\nFood and drinks if you like\n\nMusic Suggestions and BT 
 speakers if you have any\n\nMeet at 7pm at the North East end of queens pa
 rk\, here https://www.google.com.au/maps/place/Queens+Park/@-33.901855\,15
 1.2493096\,17z/data=!4m5!3m4!1s0x6b12b209a92040ed:0xf017d68f9f213c0!8m2!3d
 -33.9016173!4d151.2486251\n\nShould be a good time\n\nSee you there\n\nAid
 an
ATTACH;FMTTYPE=image/jpeg:https://unswoc.org/wordpress/wp-content/uploads/
 2018/02/100b62624d7e7025bc051f90632803d487fc95b6.jpg
CATEGORIES:Bouldering
END:VEVENT
END:VCALENDAR