BEGIN:VCALENDAR
VERSION:2.0
PRODID:-//wp-events-plugin.com//7.2.3.1//EN
TZID:Australia/Sydney
X-WR-TIMEZONE:Australia/Sydney
BEGIN:VEVENT
UID:2445@unswoc.org
DTSTART;TZID=Australia/Sydney:20190803T140000
DTEND;TZID=Australia/Sydney:20190803T170000
DTSTAMP:20190731T091338Z
URL:https://unswoc.org/wordpress/events/queens-park-boulder-chill-2/
SUMMARY:Queens Park Boulder & Chill
DESCRIPTION:Hey all\n\nCome down to Queens Park for some chill Saturday bou
 ldering with Greta and Stephen… All are welcome!\n\nWhat to bring:\n\n 	
 Climbing shoes (can be borrowed from the club on gear night)\n 	Chalk (opt
 ional)\n 	Food and drinks we'll be there for a couple of hours so snacks a
 nd water are a good idea\n 	Music suggestions - I'll pick up a UE boom fro
 m the gear cupboard\n 	Good vibes\n\nLet us know in the comments your boul
 dering/outdoor climbing experience and whether you have any bouldering mat
 s you can bring.\n\n&nbsp\;\n\nMeet at 2pm at the North East end of queens
  park\, here https://goo.gl/maps/sj2J1zf9pgBmyRp1A\n\nShould be a good tim
 e\n\nSee you there\n\nStephen
END:VEVENT
BEGIN:VTIMEZONE
TZID:Australia/Sydney
X-LIC-LOCATION:Australia/Sydney
BEGIN:STANDARD
DTSTART:20190407T020000
TZOFFSETFROM:+1100
TZOFFSETTO:+1000
TZNAME:AEST
END:STANDARD
END:VTIMEZONE
END:VCALENDAR