BEGIN:VCALENDAR
VERSION:2.0
PRODID:-//wp-events-plugin.com//7.2.3.1//EN
TZID:Australia/Sydney
X-WR-TIMEZONE:Australia/Sydney
BEGIN:VEVENT
UID:492@unswoc.org
DTSTART:20140808T050000Z
DTEND:20140808T103000Z
DTSTAMP:20140807T165515Z
URL:https://unswoc.org/wordpress/events/pubgaine-and-start-of-session-bbq/
SUMMARY:PUBGAINE! ... and start of session BBQ.
DESCRIPTION:Hello Everyone\n\nThis years PUBGAINE! is going to be at the 
 start of second semester and will be combined start of session BBQ.\n\nFor
  all of you who don\;t know what I'm talking about\, a PUBGAINE! is a po
 rtmanteau of 'pub-crawl' and 'rogaine'. In the former\, large amounts of a
 lcohol are consumed. In the latter teams of 3-5 race around to collect che
 ck points with the aid of map and compass. Combining these activities make
  for a ludicrously good time.\n\nThe start of session BBQ will begin at ar
 ound 4pm\, so come along at any time and get some food. We will have the u
 sual formalities before everyone breaks off into teams\, is given a map en
 d runs off into the night. We will then rondezvous at the finish line wher
 e points will be tallied and prizes will be awarded.\n\nThe PUBGAINE! its
 elf will begin at  6p.m. so don't worry if you are late from work.\n\nThe
  rules are simple. Each team is given a map with a list of pub marked on i
 t. Each pub is worth a designated number of point based roughly on the dif
 ficultly of reaching it. You are allowed to move by foot\, or on public tr
 ansport\, but no cars\, taxi's or bicycles. Bonus points will be awarded o
 n the following basis:\n\n1. Each team member carrying a compass\, worn ar
 ound their neck (+10 points)\n\n2. Each team member wearing a head torch\,
  you may turn it off when entering a pub (+10 points)\n\n3. Each team memb
 er dressed in thermals and shorts (bottoms mandatory and tops encouraged) 
 (+50 points) (-50 points for cotton leggings)\n\n4. Each team member drink
 s an alcoholic beverage at a pub - proven with a receipt (double points f
 or that pub) \n\nIf you have any questions\, please contact me\, I am hap
 py to help. I encourage everyone to participate\, this will be a very fun 
 night!\n\nThe entry fee will be $5. The BBQ beforehand will be free!\n\nFi
 rst place - $200 ME voucher\n\nSecond Place - $150 Me Voucher\n\nThird Pla
 ce - $100 ME Voucher\n\n&nbsp\;\n\n*Disclaimer*\n\nWhen you PUBGAINE!\, yo
 u are wholly responsible for your actions. UNSWOC doesn't\ninsure\, ensure
 \, assure\, make reasonable action to protect or provide for anything\nat 
 this event. If you get arrested\, detained\, drunk\, sleepy in the middle 
 of the\nroad\, a broken leg in the SCG or anything else\, it is your and o
 nly your problem(s).\n\n&nbsp\;
ATTACH;FMTTYPE=image/jpeg:https://unswoc.org/wordpress/wp-content/uploads/
 2014/06/Beer.jpg
CATEGORIES:Social Event
LOCATION:\, \, 
X-APPLE-STRUCTURED-LOCATION;VALUE=URI;X-ADDRESS=\, ;X-APPLE-RADIUS=100;X-TI
 TLE=:geo:0,0
END:VEVENT
END:VCALENDAR