BEGIN:VCALENDAR
VERSION:2.0
PRODID:-//wp-events-plugin.com//7.2.3.1//EN
TZID:Australia/Sydney
X-WR-TIMEZONE:Australia/Sydney
BEGIN:VEVENT
UID:2988@unswoc.org
DTSTART;TZID=Australia/Sydney:20220325T180000
DTEND;TZID=Australia/Sydney:20220325T220000
DTSTAMP:20220324T231930Z
URL:https://unswoc.org/wordpress/events/pubgaine-2022/
SUMMARY:PUBGAINE 2022
DESCRIPTION:Start is at UNSW Gear Cupboard (Sam Cracknell Pavilion) @ 6:30p
 m. Rego by 6:20pm.\n\n&nbsp\;\n\nA PUBGAINE! is a portmanteau of ‘Pub-cr
 awl’ and ‘Rogaine’. In the former\, good times are had. In the latte
 r teams of 3-5 race around to collect Control Points with the aid of map a
 nd compass. Combining these activities makes for a ludicrously good time!\
 n\nThe rules are simple. You must be 18+ and carry ID to participate. Each
  team is given a map with a list of pubs marked on it. Each pub is worth a
  designated number of point based roughly on the difficultly of reaching i
 t. You are allowed to move by foot\, or on public transport\, but no cars\
 , taxi’s or bicycles. Team must remain together at all times\, splitting
  up to get to more pubs is a no-no.\n\n&nbsp\;\n\nBONUS POINTS:\n\n 	60 po
 ints – for each team member wearing a helmet.\n 	50 points – for each 
 team with a new member who joined the club less than 6 months ago. 50 poin
 ts for the first member and 30 points for each additional person.\n 	40 po
 ints – for each team member wearing thermal leggings and shorts on top.\
 n 	30 points – for each team member wearing a harness.\n 	20 points – 
 for each team member carrying a compass around their neck.\n 	10 points 
 – for each team member wearing a head torch.\n 	10 points – for each t
 eam member who can present a space blanket at the finish line (used or unu
 sed).\n 	Double points for each pub where every team member drinks a bever
 age (alcoholic or non-alcoholic). Receipts must be provided digitally.\n\n
 &nbsp\;\n\nFor the double points we are going digital this time. There wil
 l be a link and QR code on the answer sheet please use that to submit all 
 you receipts so make sure your phone is charged!\n\nThe PUBGAINE! itself w
 ill begin at 6:30p.m. There will be warm-up social time\, food\, and regis
 tration from 5pm\, so come along at any time and get some food when you re
 gister. Rego will close at 6:20 before a mass start at 6:30. Maps will be 
 handed out as you register your team. All teams must be back at the Hash H
 ouse - Victoria park Broadway - no later than 9:30\, and a 10 point penalt
 y per minute late will given. If you cannot make it in time after work/uni
 \, you may join a team out on the course if you get them to register on yo
 ur behalf.\n\nYou are responsible for your actions at all times. UNSWOC is
  not liable for any damage or injury sustained during the event. While hav
 ing a good time is encouraged\, getting overly sloshed and becoming a nuis
 ance is not. If however you do come across any troubles\, please contact m
 yself or Oliver. Lets all have a good night!\n\nCredit: this fabulous desc
 ription was taken from David Vandermat's 2016 event and all previous pubga
 ines - may we all aspire to have a similarly great event!\n\n&nbsp\;
CATEGORIES:Orienteering,Rogaining,Social Event
END:VEVENT
BEGIN:VTIMEZONE
TZID:Australia/Sydney
X-LIC-LOCATION:Australia/Sydney
BEGIN:DAYLIGHT
DTSTART:20211003T030000
TZOFFSETFROM:+1000
TZOFFSETTO:+1100
TZNAME:AEDT
END:DAYLIGHT
END:VTIMEZONE
END:VCALENDAR