BEGIN:VCALENDAR
VERSION:2.0
PRODID:-//wp-events-plugin.com//7.2.3.1//EN
TZID:Australia/Sydney
X-WR-TIMEZONE:Australia/Sydney
BEGIN:VEVENT
UID:2406@unswoc.org
DTSTART:20190517T063000Z
DTEND:20190517T110000Z
DTSTAMP:20190516T235845Z
URL:https://unswoc.org/wordpress/events/pubgaine-2019/
SUMMARY:Pubgaine 2019 [Friday 17 May]
DESCRIPTION:What is this? Well pub crawl + rogaine = pubgaine! It's Friday 
 (the 17th of May) and it'll be awesome. The basic concept is that in teams
  of 3 - 5 you will follow a map to visit pubs and gain points in Sydney's 
 East and CBD. More difficult to reach pubs = more points. At the finish li
 ne\, the team with the most points wins - and there will be prizes!\n\nRUL
 ES:\n\n 	You must be 18+ and carry ID to participate.\n 	Teams must regist
 er at the gear cupboard or online before Friday to be included in the even
 t. Maps and answer sheets will be handed at out on the night.\n 	Arrive at
  5.30pm at the UNSW Gear Cupboard at Sam Cracknell Pavillion for pizza/reg
 istration. Start time is at 6.30pm.\n 	Teams can only travel on foot or pu
 blic transport. No cars\, taxis\, skateboards or bikes.\n 	Teams must stay
  together at all times. Splitting up to get to more pubs is a no-no.\n 	Pr
 oof of having reached a pub is by answering the question on your answer sh
 eets e.g. At pub X\, what kind of stuffed animal sits next to the cash reg
 ister?\n 	The finish line will be at Victoria Park. Teams must arrive by n
 o later than 9:30pm\, 10 points will be deducted for each minute your team
  arrives late.\n\nBONUS POINTS:\n\n 	50 points – for each team with a ne
 w member who joined the club less than 6 months ago. 50 points for the fir
 st member and 30 points for each additional person.\n 	40 points – for e
 ach team member wearing thermal leggings and shorts on top.\n 	30 points 
 – for each team member wearing a harness\n 	20 points – for each team 
 member carrying a compass around their neck.\n 	10 points – for each tea
 m member wearing a head torch.\n 	Double points for each pub where every t
 eam member drinks a beverage (alcoholic or non-alcoholic). Receipts must b
 e provided.\n\nTHINGS TO KNOW:\n\nYou are responsible for your actions at 
 all times. UNSWOC is not liable for any damage or injury sustained during 
 the event. While having a good time is encouraged\, getting overly sloshed
  and becoming a nuisance is not. If however you do come across any trouble
 s\, please contact myself or Tad. Lets all have a good night!
CATEGORIES:Social Event
END:VEVENT
END:VCALENDAR