BEGIN:VCALENDAR
VERSION:2.0
PRODID:-//wp-events-plugin.com//7.2.3.1//EN
TZID:Australia/Sydney
X-WR-TIMEZONE:Australia/Sydney
BEGIN:VEVENT
UID:2248@unswoc.org
DTSTART:20180504T063000Z
DTEND:20180504T110000Z
DTSTAMP:20180420T044259Z
URL:https://unswoc.org/wordpress/events/pubgaine-2018/
SUMMARY:PUBGAINE 2018
DESCRIPTION:It's once again time for the beloved pubgaine! If you're not su
 re what we're on about it's life's simple equation of PUB-CRAWL + ROGAINE 
 = PUBGAINE.\n\nIn teams of 3-5\, you will embark on a tour de pubs in Sydn
 ey's East\, Inner West and CBD. Each pub will earn you points\, with more 
 difficult to reach pubs earning you more points. At the end of the night\,
  the team with the most points wins.\n\nRULES:\n\n 	You must be 18+ and ca
 rry ID to participate.\n 	Teams must register at uni to be included in the
  event. Registration is $5 per person and maps and answer sheets will be h
 anded at out on the night. If you can't make registration\, you may ask a 
 team to register on your behalf and join mid-way.\n 	There will be a BBQ f
 rom 5:30pm for a 6:30pm start. Registrations will close at 6:15pm.\n 	Team
 s can only travel on foot or public transport. No cars\, taxis\, skateboar
 ds or bikes.\n 	Teams must stay together at all times. Splitting up to get
  to more pubs is a no-no.\n 	Proof of having reached a pub is by answering
  the question on your answer sheets e.g. At pub X\, what kind of stuffed a
 nimal sits next to the cash register?\n 	The finish line will be at Victor
 ia Park. Teams must arrive by no later than 9:30\, 10 points will be deduc
 ted for each minute your team arrives late.\n 	Possible shenanigans in New
 town afterwards.\n\nBONUS POINTS:\n\n 	60 points - for each team member dr
 essed up in a Star Wars themed costume. It is May the 4th after all.\n 	50
  points - for each team with a new member who joined the club less than 6 
 months ago. 50 points for the first member and 30 points for each addition
 al person.\n 	40 points - for each team member wearing thermal leggings an
 d shorts on top.\n 	30 points - for a selfie with a member of the general 
 public dressed in a Star Wars costume. Max 2 photos per team.\n 	20 points
  - for each team member carrying a compass around their neck.\n 	10 points
  - for each team member wearing a head torch.\n 	Double points for each pu
 b where every team member drinks a beverage (alcoholic or non-alcoholic). 
 Receipts must be provided.\n\nTHINGS TO KNOW:\n\nYou are responsible for y
 our actions at all times. UNSWOC is not liable for any damage or injury su
 stained during the event. While having a good time is encouraged\, getting
  overly sloshed and becoming a nuisance is not. If however you do come acr
 oss any troubles\, please call me on 0430 759 688. I am here to help and w
 ant everyone to have a fun night.\n\nCheers\,\n\nVicky\n\n&nbsp\;
CATEGORIES:Social Event
END:VEVENT
END:VCALENDAR