BEGIN:VCALENDAR
VERSION:2.0
PRODID:-//wp-events-plugin.com//7.2.3.1//EN
TZID:Australia/Sydney
X-WR-TIMEZONE:Australia/Sydney
BEGIN:VEVENT
UID:3522@unswoc.org
DTSTART;TZID=Australia/Sydney:20250311T183000
DTEND;TZID=Australia/Sydney:20250311T220000
DTSTAMP:20250306T094539Z
URL:https://unswoc.org/wordpress/events/pub-dinner-and-games-night/
SUMMARY:Pub Dinner and Games Night!
DESCRIPTION:\nSocial Dinner and Games Night!\nTuesday March 11th\, 6:30pm\n
 Wayward Brewing Co.\n\n\nHey Everyone!\n\nThe club is looking to run more 
 casual social events\, so I'd like to invite you to our social dinner and 
 games night!\n\nTuesday March 11th at 6:30pm will see club members new and
  old flocking to Wayward Brewing Co. in Glebe for dinner\, drinks and hope
 fully some board games (BYO games please!). If this event is popular it wi
 ll become a monthly event! We can also do a different location each time a
 nd if you have any in mind\, feel free to drop it in the comment box below
  (optional but appreciated!).\n\nThis is a social event open to all club m
 embers as well as prospective club members. You do not need a membership t
 o come along. Feel free to invite some friends to join too!\n\nWe'd apprec
 iate if you could sign up below so we can get an idea of numbers for this 
 new event. Of course\, if you forget\, decide to come last minute\, or bri
 ng some friends who don't sign up\, that's ok to! All are welcome. Be sure
  to let me know your favourite board game in the comment or a game you'd l
 ike to bring/play on the night!\n\nKeen to see you there!
CATEGORIES:Social Event
LOCATION:https://maps.app.goo.gl/F3LEzfxkUteP86SL9
END:VEVENT
BEGIN:VTIMEZONE
TZID:Australia/Sydney
X-LIC-LOCATION:Australia/Sydney
BEGIN:DAYLIGHT
DTSTART:20241006T030000
TZOFFSETFROM:+1000
TZOFFSETTO:+1100
TZNAME:AEDT
END:DAYLIGHT
END:VTIMEZONE
END:VCALENDAR