BEGIN:VCALENDAR
VERSION:2.0
PRODID:-//wp-events-plugin.com//7.2.3.1//EN
TZID:Australia/Sydney
X-WR-TIMEZONE:Australia/Sydney
BEGIN:VEVENT
UID:3677@unswoc.org
DTSTART;TZID=Australia/Sydney:20251014T183000
DTEND;TZID=Australia/Sydney:20251014T213000
DTSTAMP:20251001T233505Z
URL:https://unswoc.org/wordpress/events/pub-dinner-and-games-night-the-reg
 ent/
SUMMARY:Pub Dinner and Games Night! @ The Regent
DESCRIPTION:Social Dinner and Games Night!\nTuesday October 14th\, 6:30pm\n
 Regent Hotel\, Kingsford\n\n\nHey Everyone!\n\nIt's time for another socia
 l dinner and games night! This will be a great chance to get to know your 
 fellow club members\, and if you're not into climbing on Thursdays\, a gre
 at chance to attend a chill social event and make some new friends.\n\nTue
 sday October 14th at 6:30pm will see club members new and old flocking to 
 the Regent Hotel in Kingsford (near UNSW) for dinner\, drinks and hopefull
 y some board games (BYO games please!).\n\nThis is a social event open to 
 all club members as well as prospective club members. You do not need a me
 mbership to come along. Feel free to invite some friends to join too!\n\nW
 e'd appreciate if you could sign up below so we can get an idea of numbers
  for this event. Of course\, if you forget\, decide to come last minute\, 
 or bring some friends who don't sign up\, that's ok to! All are welcome. B
 e sure to let me know your favourite board game in the comment or a game y
 ou'd like to bring/play on the night!\n\nKeen to see you there!\n\nIf you 
 have any questions\, feel free to contact me (Amelia) on messenger.
CATEGORIES:Social Event
LOCATION:https://maps.app.goo.gl/XUAYUUEmi1Ptmfds8
END:VEVENT
BEGIN:VTIMEZONE
TZID:Australia/Sydney
X-LIC-LOCATION:Australia/Sydney
BEGIN:DAYLIGHT
DTSTART:20251005T030000
TZOFFSETFROM:+1000
TZOFFSETTO:+1100
TZNAME:AEDT
END:DAYLIGHT
END:VTIMEZONE
END:VCALENDAR