BEGIN:VCALENDAR
VERSION:2.0
PRODID:-//wp-events-plugin.com//7.2.3.1//EN
TZID:Australia/Sydney
X-WR-TIMEZONE:Australia/Sydney
BEGIN:VEVENT
UID:845@unswoc.org
DTSTART:20150514T220000Z
DTEND:20150517T060000Z
DTSTAMP:20150429T042105Z
URL:https://unswoc.org/wordpress/events/pt-perpendiculaaa-advanced/
SUMMARY:Pt. Perpendicular - Trad Trip - ADVANCED
DESCRIPTION:\n\n"We go to Pt. Perpendicular!\nWhere women go and men plunge
 -ah.\nYou rap in\, the waves crash under ya\,\nYou better jam\, better lov
 e that expos-ah!"\n\nAnd yes there are verses too...\n\nWeather permitting
  we're going to go to the epic sea cliffs of Pt Perp 15\,16\,17 May. If yo
 u're a trad leader join us! If not\, try find a leader happy for you secon
 d! You do need to be an EXPERIENCED climber and able to lead belay/abseil 
 etc. etc.\n\nWe'll be leaving friday morning to get 3 days climbing in\, b
 ut come down whenever you can. We'll be camping at Honeymoon bay if we can
 ... will find out.\n\nCheers!\n\nBrendan\n\n
CATEGORIES:Outdoor Climbing
LOCATION:Point Perpendicular\, Point Perpendicular\, Jervis Bay\, Australia
GEO:-35.093731;150.804276
X-APPLE-STRUCTURED-LOCATION;VALUE=URI;X-ADDRESS=Point Perpendicular\, Jervi
 s Bay\, Australia;X-APPLE-RADIUS=100;X-TITLE=Point Perpendicular:geo:-35.0
 93731,150.804276
END:VEVENT
END:VCALENDAR