BEGIN:VCALENDAR
VERSION:2.0
PRODID:-//wp-events-plugin.com//7.2.3.1//EN
TZID:Australia/Sydney
X-WR-TIMEZONE:Australia/Sydney
BEGIN:VEVENT
UID:329@unswoc.org
DTSTART:20140207T060000Z
DTEND:20140209T060000Z
DTSTAMP:20140201T233034Z
URL:https://unswoc.org/wordpress/events/pt-perp-weekend/
SUMMARY:Pt Perp Weekend
DESCRIPTION:Hey gang.\n\n&nbsp\;\n\nWe are going to Point Perp. next weeken
 d for some climbing.\n\nThis trip is only open to advanced climbers! You m
 ust be a trad climber\, or have a trad climber willing to have you second 
 them for the weekend.\n\nPlan is to head down Friday (7th Feb) afternoon a
 nd camp at Honeymoon Bay\, then climb Saturday and Sunday. Bring swimmer a
 nd stuff because it will likely be very warm.\n\nSee you there :).
ATTACH;FMTTYPE=image/jpeg:https://unswoc.org/wordpress/wp-content/uploads/
 2014/02/F1000009.jpg
CATEGORIES:Outdoor Climbing
LOCATION:\, \, 
X-APPLE-STRUCTURED-LOCATION;VALUE=URI;X-ADDRESS=\, ;X-APPLE-RADIUS=100;X-TI
 TLE=:geo:0,0
END:VEVENT
END:VCALENDAR