BEGIN:VCALENDAR
VERSION:2.0
PRODID:-//wp-events-plugin.com//7.2.3.1//EN
TZID:Australia/Sydney
X-WR-TIMEZONE:Australia/Sydney
BEGIN:VEVENT
UID:2150@unswoc.org
DTSTART:20170504T130000Z
DTEND:20170506T130000Z
DTSTAMP:20170501T162240Z
URL:https://unswoc.org/wordpress/events/pt-perp-trad-climbing/
SUMMARY:Pt Perp Trad Climbing
DESCRIPTION:Hey Guys\,\n\nWe'll be having a fun weekend doing some sea-clif
 f trad climbing at Point Perp (https://www.thecrag.com/climbing/australia/
 point-perpendicular). If you lead trad\, or know someone you might want to
  second - get in touch with me and i'll sort you out with the finer detail
 s.\n\nThis is an intermediate trip: you will be required to be self suffic
 ient (finding your own leaders\, lift\, climbs within your grade) but happ
 y to help if you need.\n\nWe'll be staying in honeymoon bay (toilets\, but
  no water). It's about a 5 minute drive\, and most climbs are 5 to 10 minu
 tes from the carpark!\n\nSome suggested things to bring:\n\n	Trad rack (Th
 ere's a lot of thin cracks\, as well as offwidth and usually pretty consis
 tent sized cracks\, so doubles or triples are good)\n	Helmet\n	Rope\n	Shoe
 s\n	tent\n	sleeping bag (it will be cold at night!)\n	windproof jacket (ge
 ts windy sometimes)\n	Bolt hangers for carrots\n	Anchor building stuff (A 
 lot of the anchors are set a bit back from the edge)\n	rope protector\n	Fo
 od/snacks\n	Water (there is no water at the campsite!)\n	Beer/wine/spirits
 \n	Sunscreen\n	Insect repellent\n	Head torch\n\n&nbsp\;\n\nWhat we'll brin
 g from the club\n\n	Static ropes for descending and some short ones for an
 chors. All climbs are rap down climb out so be prepared to prussik if you 
 think you might be stranded.\n	Some rope protectors (but bring your own if
  you have some)\n	Club trad rack\n	Guide book (it's quite old)\n	*If you n
 eed anything specific\, head to the gear night or let me know.\n\n&nbsp\;\
 n\nLook forward to seeing you all there. If you have any questions - send 
 me a message on facebook.\n\n&nbsp\;\n\nEamonn
CATEGORIES:Outdoor Climbing
END:VEVENT
END:VCALENDAR