BEGIN:VCALENDAR
VERSION:2.0
PRODID:-//wp-events-plugin.com//7.2.3.1//EN
TZID:Australia/Sydney
X-WR-TIMEZONE:Australia/Sydney
BEGIN:VEVENT
UID:2440@unswoc.org
DTSTART;TZID=Australia/Sydney:20190718T000000
DTEND;TZID=Australia/Sydney:20190718T000000
DTSTAMP:20190716T060402Z
URL:https://unswoc.org/wordpress/events/prussiking-at-the-ledge/
SUMMARY:Prusiking at the ledge
DESCRIPTION:Learn to prussik at the ledge this Thursday\, this is an essent
 ial skill which allows you to ascend a rope\, useful for just about every 
 outdoor sport. Beginners welcome as well as people looking to practice.
END:VEVENT
BEGIN:VTIMEZONE
TZID:Australia/Sydney
X-LIC-LOCATION:Australia/Sydney
BEGIN:STANDARD
DTSTART:20190407T020000
TZOFFSETFROM:+1100
TZOFFSETTO:+1000
TZNAME:AEST
END:STANDARD
END:VTIMEZONE
END:VCALENDAR