BEGIN:VCALENDAR
VERSION:2.0
PRODID:-//wp-events-plugin.com//7.2.3.1//EN
TZID:Australia/Sydney
X-WR-TIMEZONE:Australia/Sydney
BEGIN:VEVENT
UID:2731@unswoc.org
DTSTART;TZID=Australia/Sydney:20200820T000000
DTEND;TZID=Australia/Sydney:20200820T200000
DTSTAMP:20200818T003411Z
URL:https://unswoc.org/wordpress/events/prusiking-workshop/
SUMMARY:Prusiking Workshop
DESCRIPTION:Want to go down a rope? You should probably learn to go up too!
 \n\nPrusiking is a very useful skill for all sorts of things from aiding u
 p a multi pitch as a second\, bailing from a problematic abseil (or using 
 an autoblock) and setting up an assisted haul.\n\nWe will go through all t
 hings Prusiking\, starting at the very beginning and work from there till 
 we get bored. Starting at 630 at the ledge.\n\nBring your harness and some
  closed toe shoes that you dont mind wearing while climbing a rope (if tha
 ts your climbing shoes thats cool). I will bring everything else we need.
END:VEVENT
BEGIN:VTIMEZONE
TZID:Australia/Sydney
X-LIC-LOCATION:Australia/Sydney
BEGIN:STANDARD
DTSTART:20200405T020000
TZOFFSETFROM:+1100
TZOFFSETTO:+1000
TZNAME:AEST
END:STANDARD
END:VTIMEZONE
END:VCALENDAR