BEGIN:VCALENDAR
VERSION:2.0
PRODID:-//wp-events-plugin.com//7.2.3.1//EN
TZID:Australia/Sydney
X-WR-TIMEZONE:Australia/Sydney
BEGIN:VEVENT
UID:2889@unswoc.org
DTSTART;TZID=Australia/Sydney:20210401T183000
DTEND;TZID=Australia/Sydney:20210401T200000
DTSTAMP:20210327T035236Z
URL:https://unswoc.org/wordpress/events/prusiking-workshop-2/
SUMMARY:Prusiking Workshop
DESCRIPTION:&nbsp\;\n\n******YOU NEED TO HAVE BEEN APPROVED FOR THE LEDGE T
 O BE ACCEPTED ON THIS TRAINING******\n\n&nbsp\;\n\nWant to go down a rope?
  You should probably learn to go up too!\n\n\n\nPrusiking is a very useful
  skill for all sorts of things from aiding up a multi pitch as a second\, 
 bailing from a problematic abseil (or using an autoblock) and setting up a
 n assisted haul.\n\nWe will go through all things prusiking\, starting at 
 the very beginning\, things like how to tie the prussic\, what the differe
 nt way of prusiking are\, how to use an autoblock\, and work up from there
  till we get bored. Starting at 630 at the ledge.\n\nBring your:\n\n 	harn
 ess\n 	closed toe shoes that you dont mind wearing while climbing a rope (
 if thats your climbing shoes thats cool)\n 	and any relent gear you have\,
  the best practice is practice on your gear.\n\nI will bring everything el
 se we need\n\n&nbsp\;\n\n******YOU NEED TO HAVE BEEN APPROVED FOR THE LEDG
 E TO BE ACCEPTED ON THIS TRAINING******
ATTACH;FMTTYPE=image/jpeg:https://unswoc.org/wordpress/wp-content/uploads/
 2019/11/Abseil4.png
CATEGORIES:Training
END:VEVENT
BEGIN:VTIMEZONE
TZID:Australia/Sydney
X-LIC-LOCATION:Australia/Sydney
BEGIN:DAYLIGHT
DTSTART:20201004T030000
TZOFFSETFROM:+1000
TZOFFSETTO:+1100
TZNAME:AEDT
END:DAYLIGHT
END:VTIMEZONE
END:VCALENDAR