BEGIN:VCALENDAR
VERSION:2.0
PRODID:-//wp-events-plugin.com//7.2.3.1//EN
TZID:Australia/Sydney
X-WR-TIMEZONE:Australia/Sydney
BEGIN:VEVENT
UID:3559@unswoc.org
DTSTART;TZID=Australia/Sydney;VALUE=DATE:20250309
DTEND;TZID=Australia/Sydney;VALUE=DATE:20250310
DTSTAMP:20250308T114710Z
URL:https://unswoc.org/wordpress/events/pre-boree-log-canyon/
SUMMARY:Pre boree log canyon
DESCRIPTION:Hey all\n\nI will be running a canyon this sunday to give some 
 practice before BL. Will be weather dependant if and where we go so I will
  be light on the details now but will update by thursday morning with some
  more details.\n\nUPDATE:\n\nWe will meet at the at 9 AM then head to Gran
 d and Jugglers Canyons. We will do Empress if we have time and stoke in th
 e afternoon\n\n-----\n\nPlease make you sure bring ALL required gear. Some
  gear is available to borrow from the gear cupboard but it is limited - if
  you have any of your own please bring it!\n\nGear available to borrow fro
 m the club:\n\n 	Harness\n 	Helmet\n 	3x locking carabiners\n 	1x Figure 8
  / Descender\n 	1x Safety sling\n 	Drybag\n 	Wetsuit (5mm preferable)\n\n
 Other gear you MUST bring:\n\n 	Backpack that can fit ALL your gear and 
 that can get wet (30L+)\n 	Clothing:\n\n 	Enclosed shoes with good grip\,
  suitable for water and bushwalking\n 	Wool or neoprene socks\n 	Boardsho
 rts to wear on top of wetsuit (compulsory to protect the club wetsuits)\n
  	Thermals and raincoat\n 	Swimmers for under wetsuit\n 	NO COTTON! (this
  includes socks\, shirts\, pants\, undies\, etc)\n\n\n 	Food:\n\n 	2L of w
 ater (minimum)\n 	Lunch\n 	Snacks to share (with me)\n\n\n 	Other:\n\n 	Me
 dication (asthma puffer\, Epipen etc)\n 	Headtorch + spare batteries\n 	E
 mergency blanket – (can buy from Gear Cupboard for $5 or from chemists\,
  shops\, etc)\n\n\n\n&nbsp\;\n\nTo let me know you have read this far plea
 se tell me how much toothpaste you have swallowed in your life (in grams o
 r kilos).\n\nIn your comment please also put:\n\n 	Your fitness level\n 	Y
 our swimming ability\n 	Your canyoning experience\n 	What snack you will b
 e bringing to share with me :)\n\nIf you have any questions on your suitab
 ility for the trip please send me a message on Facebook.\n\n(Yes I stole 
 this from Jason\, ty ty)
CATEGORIES:Canyoning
LOCATION:https://maps.app.goo.gl/wjsJMWM66yhnWW3y5
END:VEVENT
BEGIN:VTIMEZONE
TZID:Australia/Sydney
X-LIC-LOCATION:Australia/Sydney
BEGIN:DAYLIGHT
DTSTART:20241006T030000
TZOFFSETFROM:+1000
TZOFFSETTO:+1100
TZNAME:AEDT
END:DAYLIGHT
END:VTIMEZONE
END:VCALENDAR