BEGIN:VCALENDAR
VERSION:2.0
PRODID:-//wp-events-plugin.com//7.2.3.1//EN
TZID:Australia/Sydney
X-WR-TIMEZONE:Australia/Sydney
BEGIN:VEVENT
UID:3565@unswoc.org
DTSTART;TZID=Australia/Sydney;VALUE=DATE:20250321
DTEND;TZID=Australia/Sydney;VALUE=DATE:20250322
DTSTAMP:20250312T104124Z
URL:https://unswoc.org/wordpress/events/pre-boree-log-beginner-empress-can
 yon/
SUMMARY:[Full] Pre-Boree log beginner empress canyon
DESCRIPTION:Hey all\,\nAre you super stoked for Boree log and want to jam i
 n an extra canyon on Friday? Then boy oh boy do Cornelius and I have trip 
 for you!\n\n\n\n&nbsp\;\n\nWith high demand for beginner canyons\, we'll b
 e running a short trip through empress canyon on the Friday before Boree l
 og.\n\nThe canyon should take us 3-4 hours and will be a nice way to break
  up the drive to Boree log.\n\nPlease feel free to sign up if you haven't 
 canyoned before! This is a great first canyon and involves one awesome 30m
  abseil at the end.\n\n&nbsp\;\n\nYou will need to visit the gear cupboard
  on a Thursday to pick up any gear that you wish to borrow. See below for 
 a list of things you need to bring. If you don't have all the pieces\, we 
 may ask you to wait in the carpark/cafe.\n\n&nbsp\;\n\nAvailable to borrow
  from the Club:\n\n 	Canyoning harness\n 	Helmet\n 	Wetsuit (bring your ow
 n if you have one\, no guarantees that the club ones will fit you)\n 	2x L
 ocking carabiners\n 	1x Figure 8 descender\n 	1x Safety sling\n 	Drybag\n\
 nOther gear you must bring:\n\n 	Backpack that can fit ALL your gear and t
 hat can get wet (30L+)\n 	Emergency blanket – (can buy from Gear Cupboar
 d for $5 or from chemists\, shops\, etc)\n 	Enclosed shoes with good grip\
 , suitable for water and bushwalking\n 	Wool or neoprene or other thick so
 cks\n 	Boardshorts to wear on top of wetsuit (compulsory to protect the cl
 ub wetsuits)\n 	Thermals and raincoat\n 	Swimmers for under wetsuit\n 	NO 
 COTTON! (this includes socks\, shirts\, pants\, etc)\n 	2L of water\n 	Lun
 ch\n 	Snacks to share!\n 	Medication (asthma puffer\, Epipen etc)\n 	Headt
 orch + spare batteries\n 	Dry clothes and a towel for the drive back to ca
 mp\n\n&nbsp\;\n\n&nbsp\;\n\nIdeally all participants of this trip will be 
 also attending Boree log\, as we won't be going back to Sydney afterwards.
  Let me know in the comments if you have a car\, your canyoning/abseiling 
 experience and your favorite national park (so I know you've read this far
 ).\n\n&nbsp\;
CATEGORIES:Canyoning
LOCATION:https://maps.app.goo.gl/wdBGEKPdo5FQsNTi8
END:VEVENT
BEGIN:VTIMEZONE
TZID:Australia/Sydney
X-LIC-LOCATION:Australia/Sydney
BEGIN:DAYLIGHT
DTSTART:20241006T030000
TZOFFSETFROM:+1000
TZOFFSETTO:+1100
TZNAME:AEDT
END:DAYLIGHT
END:VTIMEZONE
END:VCALENDAR