BEGIN:VCALENDAR
VERSION:2.0
PRODID:-//wp-events-plugin.com//7.2.3.1//EN
TZID:Australia/Sydney
X-WR-TIMEZONE:Australia/Sydney
BEGIN:VEVENT
UID:3587@unswoc.org
DTSTART;TZID=Australia/Sydney:20250607T110000
DTEND;TZID=Australia/Sydney:20250607T170000
DTSTAMP:20250811T142116Z
URL:https://unswoc.org/wordpress/events/porterspass-collab/
SUMMARY:[UNSWOC + Wandersoc] Porters Pass Hike
DESCRIPTION:Image credits: Oliver D hikingtheworld.blog\, used with permiss
 ion. Thank you! [image since removed 😁]\n\n\n\nHellooooo!\n\nWandersoc 
 and UNSWOC are collaborating to bring you a leading a beginner-friendly hi
 ke through the Porters Pass and Colliers Causeway track in Blackheath.\n\n
 It is possibly my favourite day hike in the Blue Mountains\, featuring wat
 erfalls\, a micro-canyon\, an optional swim (maybe not in this weather)\, 
 rainforests\, dry heath\, clifftop\, and cliffside paths!!!\n\nIt has a t
 otal length of about 8km and elevation gain of 400m\, and I expect it to t
 ake about 5 hours.\n\nThis trail will require good fitness as there are so
 me very steep sections\, however we will not be in a rush.\n\nCheck out th
 e track here – https://hikingtheworld.blog/2023/05/14/ar-porters-pass-c
 olliers-causeway\n\n&nbsp\;\n\nWhat to bring:\n\n 	Sturdy shoes!\n\n 	This
  is not your average tourist track and there are a few less maintained sec
 tions so hiking boots would be great.\n\n\n 	Small-medium sized backpack t
 o hold your belongings\n 	At least 2L of water **super important to have e
 nough water!!**\n 	Lunch and snacks for the day\n 	A hat\n 	Any personal m
 edication you may need\n 	WARM CLOTHES BECAUSE THE FORECAST IS FEELS LIKE 
 4ºC\n\nWhen and Where:\n\n 	Saturday 7th June (end of week 1)\n 	Meet at 
 11:30am Blackheath\n\n 	Most of us will be taking the 09:24 train from Cen
 tral Station\n 	You're welcome to make your own way there\, however we wil
 l not be able to wait for any latecomers :(\n\n\n\n&nbsp\;\n\nSo\, if you 
 are keen for a hike\, please tell us your hiking experience so far\, if y
 ou could be an animal for a day what you would choose (just so I know you
 ’ve read all this information) and how you're getting to Blackheath in 
 your comment below… and get in early before signups are full.\n\nIf you 
 have any questions\, feel free to reach out to me at webadmin [at] unswoc.
 org
CATEGORIES:Bushwalking,Hectic Hiking
LOCATION:https://www.google.com/maps/place/30+Bundarra+St,+Blackheath+NSW+2
 785/
END:VEVENT
BEGIN:VTIMEZONE
TZID:Australia/Sydney
X-LIC-LOCATION:Australia/Sydney
BEGIN:STANDARD
DTSTART:20250406T020000
TZOFFSETFROM:+1100
TZOFFSETTO:+1000
TZNAME:AEST
END:STANDARD
END:VTIMEZONE
END:VCALENDAR