BEGIN:VCALENDAR
VERSION:2.0
PRODID:-//wp-events-plugin.com//7.2.3.1//EN
TZID:Australia/Sydney
X-WR-TIMEZONE:Australia/Sydney
BEGIN:VEVENT
UID:2438@unswoc.org
DTSTART;TZID=Australia/Sydney:20190717T190000
DTEND;TZID=Australia/Sydney:20190717T220000
DTSTAMP:20190713T092942Z
URL:https://unswoc.org/wordpress/events/pool-session/
SUMMARY:Pool Session
DESCRIPTION:Do you want to come on our whitewater paddling trips? Have you 
 always wanted to kayak down waterfalls? Or do you want to represent UNSWOC
  at the Snowy River Extreme Race this year? If the answer is yes to any of
  these come to our pool sessions and practice or learn to roll!\n\n&nbsp\;
 \n\nSo what is a pool session? Well\, essentially whitewater kayaking can 
 be inherently dangerous especially if you flip over and can’t roll up ag
 ain. These sessions are there to teach you the basic skills required to st
 ay safe on a river. We will mainly focus on rolling but we can also teach 
 you various other kayaking skills if you are interested. Once you have a f
 irm grasp of these skills\, you’ll be invited on various whitewater trip
 s and have access to the whitewater kayaks.\n\n&nbsp\;\n\nWhen and where:\
 n\n 	We will meet at the Gear Cupboard (near the BBQs at Sam Cracknell Pav
 ilion) at 7pm.\n 	From there we will carry the gear over to the UNSW pool 
 for a 7:30pm start in the water.\n 	We will be out of the water by 9:30pm 
 and we will be done with packup by 10pm latest.\n\nCost:\n\n 	You will hav
 e to pay your pool entry to the club in cash. The club subsidises your ent
 ry so it only costs $5.\n\n&nbsp\;\n\nWhat to bring:\n\n 	Swimmers\n 	Towe
 l\n 	Goggles *optional\n 	Earplugs *optional\n 	Noseplug *optional\n
ATTACH;FMTTYPE=image/jpeg:https://unswoc.org/wordpress/wp-content/uploads/
 2019/07/12694617_10153379747941824_1657782810423543356_o.jpg
CATEGORIES:Training,Whitewater Kayaking
END:VEVENT
BEGIN:VTIMEZONE
TZID:Australia/Sydney
X-LIC-LOCATION:Australia/Sydney
BEGIN:STANDARD
DTSTART:20190407T020000
TZOFFSETFROM:+1100
TZOFFSETTO:+1000
TZNAME:AEST
END:STANDARD
END:VTIMEZONE
END:VCALENDAR