BEGIN:VCALENDAR
VERSION:2.0
PRODID:-//wp-events-plugin.com//7.2.3.1//EN
TZID:Australia/Sydney
X-WR-TIMEZONE:Australia/Sydney
BEGIN:VEVENT
UID:2536@unswoc.org
DTSTART;TZID=Australia/Sydney:20191106T190000
DTEND;TZID=Australia/Sydney:20191106T213000
DTSTAMP:20191009T030133Z
URL:https://unswoc.org/wordpress/events/pool-session-2/
SUMMARY:Kayak Pool Session
DESCRIPTION:Do you want to come on our whitewater paddling trips? Have you 
 always wanted to kayak down waterfalls? Or are you captain of the swim tea
 m? If the answer is yes to any of these\, come to our pool sessions and pr
 actice or learn to roll!\n\nSo what is a pool session? Well\, essentially 
 whitewater kayaking can be inherently dangerous especially if you flip ove
 r and can’t roll up again. These sessions are there to teach you the bas
 ic skills required to stay safe on a river. We will mainly focus on rollin
 g but we can also teach you various other kayaking skills if you are inter
 ested. Once you have a firm grasp of these skills\, you’ll be invited on
  various whitewater trips and have access to the whitewater kayaks.\n\nThi
 s is a shorter than normal session\, so first preference will be for those
  who have been to a session before and just want some guided practice.\n\n
 When and where:\n\n 	We will meet at the Gear Cupboard (near the BBQs at S
 am Cracknell Pavilion) at 7:00pm.\n 	From there we will carry the gear ove
 r to the UNSW pool for a 7:30pm start in the water.\n 	We will be out of t
 he water by 9:00pm and we will be done with packup by 9:30pm latest.\n\nCo
 st:\n\n 	You will have to pay your pool entry to the club in cash. The clu
 b subsidises your entry so it only costs $5.\n\nWhat to bring:\n\n 	Swimme
 rs\n 	Towel\n 	bag for your wet stuff\n 	Goggles *optional\n 	Earplugs *op
 tional\n 	Noseplug *optional\n
ATTACH;FMTTYPE=image/jpeg:https://unswoc.org/wordpress/wp-content/uploads/
 2019/10/AJC01968.jpg
CATEGORIES:Training,Whitewater Kayaking
END:VEVENT
BEGIN:VTIMEZONE
TZID:Australia/Sydney
X-LIC-LOCATION:Australia/Sydney
BEGIN:DAYLIGHT
DTSTART:20191006T030000
TZOFFSETFROM:+1000
TZOFFSETTO:+1100
TZNAME:AEDT
END:DAYLIGHT
END:VTIMEZONE
END:VCALENDAR