BEGIN:VCALENDAR
VERSION:2.0
PRODID:-//wp-events-plugin.com//7.2.3.1//EN
TZID:Australia/Sydney
X-WR-TIMEZONE:Australia/Sydney
BEGIN:VEVENT
UID:2918@unswoc.org
DTSTART;TZID=Australia/Sydney:20210625T183000
DTEND;TZID=Australia/Sydney:20210625T213000
DTSTAMP:20210618T102438Z
URL:https://unswoc.org/wordpress/events/pool-session-1/
SUMMARY:Pool Session #1
DESCRIPTION:\n\n&nbsp\;\n\n***EVENT FULL: Last spot is to act as a waiting 
 list should we have any drop outs***\n\n&nbsp\;\n\nThat's right. They're b
 ack. The fabled UNSWOC Kayak Pool Sessions!\n\n&nbsp\;\n\nFor those new to
  pool sessions\, this is the place to be to learn the fundamentals of padd
 ling\, specifically rolling a whitewater kayak.\n\n&nbsp\;\n\nIf you’ve 
 ever wanted to kayak down waterfalls\, paddle Australia’s stunning white
 water rivers\, or just give a new sport a try then these sessions are for 
 you. These sessions usually fill up super fast so make sure to sign up qui
 ck\, and let me know why you’re keen to come along in your comment!\n\n&
 nbsp\;\n\nThese are beginner training sessions to teach you the fundamenta
 ls of rolling a whitewater kayak as well as other basic skills. Rolling is
  a crucial skill in whitewater rapids to get you upright in the event you 
 flip over while paddling. With these skills you’ll be able to attend the
  club’s awesome whitewater kayaking trips. Everything from trips to the 
 Olympic training facility in Penrith to the Snowy River Extreme Race in th
 e Snowy Mountains.\n\n&nbsp\;\n\nDetails:\n\n 	Friday 25th of June\n 	Meet
  at the gear cupboard at 6:30pm (Sam Cracknell Pavilion\, ground floor v
 illage green side)\n 	We will carry the gear over to the pool for a 7pm st
 art in the water\n 	Out of the water by 9:30pm and then carry gear back t
 o the gear cupboard\n\n&nbsp\;\n\nWhat to bring:\n\n 	Swimmers\n 	Towel\n 
 	$5 cash for subsidised pool entry costs\n 	Goggles (optional)\n 	Noseplu
 g (optional)\n\nNOTE: YOU MUST BE A COMPETENT SWIMMER TO ATTEND!\n\nIf you
  miss out on signup this time there will be more pool sessions throughout 
 the term. If you have any questions feel free to message me (Bennett Frerc
 k).\n\n&nbsp\;\n\nLet me know why you’re keen to come along and if you h
 ave any prior kayaking experience in the signup comment. People with a com
 ment are always more likely to find a spot\n\n&nbsp\;\n\n***EVENT FULL: La
 st spot is to act as a waiting list should we have any drop outs***
CATEGORIES:Kayaking,Whitewater Kayaking
END:VEVENT
BEGIN:VTIMEZONE
TZID:Australia/Sydney
X-LIC-LOCATION:Australia/Sydney
BEGIN:STANDARD
DTSTART:20210404T020000
TZOFFSETFROM:+1100
TZOFFSETTO:+1000
TZNAME:AEST
END:STANDARD
END:VTIMEZONE
END:VCALENDAR