BEGIN:VCALENDAR
VERSION:2.0
PRODID:-//wp-events-plugin.com//7.2.3.1//EN
TZID:Australia/Sydney
X-WR-TIMEZONE:Australia/Sydney
BEGIN:VEVENT
UID:2017@unswoc.org
DTSTART:20160513T190000Z
DTEND:20160515T083000Z
DTSTAMP:20160509T073623Z
URL:https://unswoc.org/wordpress/events/point-perpendicular-trip-2/
SUMMARY:Point Perpendicular Trip
DESCRIPTION:Hey all\,\n\nA couple of us are heading to point perpendicular 
 this weekend to do a bit of Trad Climbing. We have a 3 spots left in our c
 ar\, but if anyone else is driving we can open it up to more. This is an i
 ntermediate trip and thus you will need to know how to abseil\, lead belay
  and lead/second Trad.\n\n&nbsp\;\n\nhttps://www.thecrag.com/climbing/aust
 ralia/point-perpendicular\n\n&nbsp\;\n\nWe'll be leaving early saturday mo
 rning and returning Sunday night and camping overnight at honeymoon bay. G
 ive me a message if you have any questions.\n\n&nbsp\;\n\nCheers\,\n\nEamo
 nn\n\n&nbsp\;
CATEGORIES:Outdoor Climbing
END:VEVENT
END:VCALENDAR