BEGIN:VCALENDAR
VERSION:2.0
PRODID:-//wp-events-plugin.com//7.2.3.1//EN
TZID:Australia/Sydney
X-WR-TIMEZONE:Australia/Sydney
BEGIN:VEVENT
UID:1454@unswoc.org
DTSTART:20150911T073000Z
DTEND:20150913T110000Z
DTSTAMP:20150911T044235Z
URL:https://unswoc.org/wordpress/events/point-perpendicular-rock-climbing/
SUMMARY:Point Perpendicular Rock Climbing
DESCRIPTION:I'm planning a rock climbing trip to Point Perpendicular on the
  weekend of September 11-13th to sample the atmospheric sea-cliff climbing
  on offer. Point Perp is predominantly trad-climbing although there are a 
 few sport routes\, and bolt plates are required for the odd carrot bolt.\n
 \nTheCrag - Point Perpendicular\n\nWe'll drive down from Sydney on Friday 
 night leaving at 6.30pm (departure location TBA)\, and return Sunday night
  after two fantastic days of climbing.\n\nI am a competent trad leader\, a
 nd ideally one other person will sign up having previous trad climbing ex
 perience\, allowing two others with no trad experience to join - but you m
 ust know how to lead belay and abseil. If in doubt\, let me know your expe
 rience level and we can work it out.\n\nI have a trad rack &amp\; rope\, i
 f you would like to lead also please borrow/bring a rope\, trad rack &amp\
 ; draws.\n\nOther gear to bring:\nCamping gear - tent\, sleeping bag\, mat
 t\, cooker\, 20L water container\n\nClimbing gear - harness\, shoes\, ATC\
 , carabiners\, abseil prussic\, slings\, draws\, rack\, rope\, bolt plates
 \n\nFood &amp\; drink for the weekend.\n\nAny questions feel free to conta
 ct me on 0450 600 842.\n\nHopefully see you on the weekend!\n\nAlastair\n\
 n&nbsp\;\n\n&nbsp\;
CATEGORIES:Outdoor Climbing
LOCATION:\, \, 
X-APPLE-STRUCTURED-LOCATION;VALUE=URI;X-ADDRESS=\, ;X-APPLE-RADIUS=100;X-TI
 TLE=:geo:0,0
END:VEVENT
END:VCALENDAR