BEGIN:VCALENDAR
VERSION:2.0
PRODID:-//wp-events-plugin.com//7.2.3.1//EN
TZID:Australia/Sydney
X-WR-TIMEZONE:Australia/Sydney
BEGIN:VEVENT
UID:3570@unswoc.org
DTSTART;TZID=Australia/Sydney:20250330T100000
DTEND;TZID=Australia/Sydney:20250330T170000
DTSTAMP:20250318T054919Z
URL:https://unswoc.org/wordpress/events/point-and-paddle-pre-intro-to-whit
 ewater-kayaking-and-beach-day/
SUMMARY:Point and Paddle: pre-intro to Whitewater Kayaking (and beach day)
DESCRIPTION:Yelalo!\n\nOn Anzac Day weekend I will be running a beginner wh
 itewater trip with Niels Bardoel. This trip will be a prerequisite - if yo
 u are interested in learning to Whitewater kayak\, you must come on this t
 rip.\n\nWe'll head to Malabar beach rain hail or shine (but not lightning)
  and go for a paddle in the whitewater boats. These kayaks are a lot more 
 difficult to paddle straight than other kayaks and so a little warm up and
  practice will be necessary before the actual trip.\n\nI think it will als
 o be fun for anyone to come along and vibe on the beach\, so all people ar
 e welcome to join and paddle if you so please. Please note in the comment 
 box whether you are interested in the beginner WW trip later in April.\n\n
 What's the plan\, Stan?\n\n10am: Everyone with a car with roofracks will m
 eet at the big gear shed to pick up boats\, paddles and PFDs for the day\n
 \n11am: Everyone will meet at Malabar to help unload boats and get in the 
 water\n\n11:30am: We'll go for the first paddle\, spend some time on the w
 ater getting used to the boats\, practice bailing from the boat when upsid
 e down\, and doing some swim practice for the river\n\nWhat to bring\n\nIt
 's a beach day with paddling. Bring your cossies and something comfy for p
 addling. I recommend active wear\, a hat and sunnies\, and shorts which ca
 n get wet. For anyone paddling: absolutely no cotton\n\nBring some lunch a
 nd water too\, a towel\, and dry clothes for afterwards as well as sunscre
 en.\n\nIn the comment box\, please tell me if you have roofracks on your c
 ar. If you don't have a car\, please tell me your favourite brand of pen. 
 Please also tell me your kayaking experience and whether you are coming al
 ong to try kayaking for the April trip\, or just for the beach day (you'll
  still be allowed to kayak)
CATEGORIES:Social Event,Whitewater Kayaking
LOCATION:https://maps.app.goo.gl/Krti7og5H6nxFRhm9
END:VEVENT
BEGIN:VTIMEZONE
TZID:Australia/Sydney
X-LIC-LOCATION:Australia/Sydney
BEGIN:DAYLIGHT
DTSTART:20241006T030000
TZOFFSETFROM:+1000
TZOFFSETTO:+1100
TZNAME:AEDT
END:DAYLIGHT
END:VTIMEZONE
END:VCALENDAR