BEGIN:VCALENDAR
VERSION:2.0
PRODID:-//wp-events-plugin.com//7.2.3.1//EN
TZID:Australia/Sydney
X-WR-TIMEZONE:Australia/Sydney
BEGIN:VEVENT
UID:2194@unswoc.org
DTSTART;VALUE=DATE:20171028
DTEND;VALUE=DATE:20171029
DTSTAMP:20171018T001220Z
URL:https://unswoc.org/wordpress/events/pipeline-canyon-saturday-boree-log
 /
SUMMARY:Pipeline Canyon (Saturday Boree Log)
DESCRIPTION:Come down the Pipeline with Dave\, Izzy and I. Easily the most 
 fun trip leaders for the whole weekend \;).\n\nPipeline is probably the mo
 st accessible canyon in the Wolgan Valley. There is a 2-3km walk from the 
 campsite to the top of the pipeline track. We will then traverse across to
  the canyon and make our way down a number of shutes\, climbs and abseils.
  You wont need a wet-suit for this one\, but you will probably still get w
 et. Once we exit the canyon\, we retrace our steps back along the bottom o
 f the pipeline track and return to camp. See the map below. Please bring:
 \n\n	Thermals (these will help with some of the short wades/swims)\n	Woole
 n socks (no cotton\, please)\n	Lunch and other snacks\n	Water (at least 1
 L\, but 2L is preferable)\n	Closed toe shoes such a joggers (runners). If 
 you wear thongs or sandals\, we am leaving you at camp.\n	A suitable backp
 ack to carry everything\n	Old cloths (some of the pools might be a little 
 manky due to the lack of recent rain)\n\n\n\n\n\n&nbsp\;
ATTACH;FMTTYPE=image/jpeg:https://unswoc.org/wordpress/wp-content/uploads/
 2017/10/Pipeline700.png
END:VEVENT
END:VCALENDAR