BEGIN:VCALENDAR
VERSION:2.0
PRODID:-//wp-events-plugin.com//7.2.3.1//EN
TZID:Australia/Sydney
X-WR-TIMEZONE:Australia/Sydney
BEGIN:VEVENT
UID:2566@unswoc.org
DTSTART;TZID=Australia/Sydney;VALUE=DATE:20191026
DTEND;TZID=Australia/Sydney;VALUE=DATE:20191027
DTSTAMP:20191023T052358Z
URL:https://unswoc.org/wordpress/events/pipeline-canyon-saturday-beginner-
 intermediate/
SUMMARY:BL Saturday - *TRIP FULL* Pipeline Canyon (Beginner/Intermediate)
DESCRIPTION:You must be attending and approved for the Boree Log main event
  to sign up for this trip.\n\nNote: There are two trips heading to Pipelin
 e Canyon on the Saturday. We'll probably be leaving second (but still earl
 y) because we're the slightly larger group. \n\nWanna do some call canyon
 ing shiz on Saturday\, a bunch of abseiling and some cool rocks.\nTrack no
 tes here: https://ozultimate.com/canyoning/track_notes/pipeline.htm\n\n\n\
 nBrendon and I (Henry) will be running this awesome canyon on Boree Log 
 – Saturday 26th. It is suited for beginner/intermediate canyoners  If y
 ou want to sign up\, do it here\, and tell us in the comments with your cu
 rrent outdoors experience\, car situation\, what gear you already have\, a
 nd your favourite place in Australia (so we know you’ve read this far!)\
 , and we will let you know who got a spot and add you to the trip ASAP.\n\
 nWhat to bring:\n\n 	Head torch (With full batteries\, it’s pitch black 
 in the tunnel)\n 	Emergency blanket (You must carry one on every club cany
 oning trip. You can grab one from the gear cupboard or at Boree Log for $5
  cash)\n 	Harness*\n 	Descender (ATC) and biner*\n 	Safety sling and biner
 *\n 	Prusik and biner*\n 	Helmet*\n 	Proper damn shoes. Volleys are ideal\
 , but runners with good grip (that aren’t slippery when wet) also work. 
 No sandals or crocs. Sandals as they are unsafe and crocs being visually h
 orrific.\n 	Wool socks (to keep your wet feet warm)\n 	Clothing that you c
 an hike &amp\; scramble in &amp\; that is not too cold / heavy when wet (t
 here may be deep wades). Please do not wear jeans!\n 	Spare jacket / jump
 er in a plastic bag\n 	Sun protection! (sunscreen\, hat)\n 	2 litres of wa
 ter\n 	Lunch &amp\; snacks (for 10hrs)\n 	Recommended: drybag or pastic ga
 rbage bag to keep your valuables dry in case of deep wades\n\n—&gt\; ite
 ms with a * can be borrowed from club – let us know what you need\n\n&nb
 sp\;\n\nSee you down there!
CATEGORIES:Canyoning
END:VEVENT
BEGIN:VTIMEZONE
TZID:Australia/Sydney
X-LIC-LOCATION:Australia/Sydney
BEGIN:DAYLIGHT
DTSTART:20191006T030000
TZOFFSETFROM:+1000
TZOFFSETTO:+1100
TZNAME:AEDT
END:DAYLIGHT
END:VTIMEZONE
END:VCALENDAR