BEGIN:VCALENDAR
VERSION:2.0
PRODID:-//wp-events-plugin.com//7.2.3.1//EN
TZID:Australia/Sydney
X-WR-TIMEZONE:Australia/Sydney
BEGIN:VEVENT
UID:2203@unswoc.org
DTSTART;VALUE=DATE:20171028
DTEND;VALUE=DATE:20171029
DTSTAMP:20171026T034322Z
URL:https://unswoc.org/wordpress/events/pipeline-canyon-2-saturday-boree-l
 og/
SUMMARY:Pipeline Canyon (#2) Saturday Boree Log
DESCRIPTION:Hey there friends\n\nKeen for a night of feasting and boozing b
 ut don’t want it to be unearned?\nCome join Nicola\, Mac and Me for an a
 dventure down the amazing Pipeline Canyon!\nThis full day adventure will i
 nclude abseiling\, wading and swimming and general awesomeness so a reason
 able fitness level is needed and being able to swim is a MUST.\nBeginners 
 are welcome on this trip but only if you bring us some snacks \;)\n\nNote 
 that this is trip #2 because we will be leaving slightly later than the fi
 rst group\n\nPipeline is probably the most accessible canyon in the Wolgan
  Valley. There is a 2-3km walk from the campsite to the top of the pipelin
 e track. We will then traverse across to the canyon and make our way down 
 a number of shutes\, climbs and abseils. Once we exit the canyon\, we retr
 ace our steps back along the bottom of the pipeline track and return to ca
 mp. See the map below. Please bring:\n\n	Wetsuit (very much recommended f
 or the swims. If you really can't find one\, a back up is to wear thermals
 \, and bring a waterproof/windproof jacket to help keep out the chill once
  you're wet)\n	Thermals + dry bag (DRY SET in a dry bag - this is back-up 
 in case we get benighted and need to dry off to warm up) No cotton\n	Water
 proof/windproof jacket recommended\n	Woolen socks (no cotton\, please)\n	L
 unch and other snacks\n	Water (at least 1L\, but 2L is preferable)\n	Clos
 ed toe shoes such a joggers (runners) or volleys. If you wear thongs or sa
 ndals\, we are leaving you at camp.\n	A suitable backpack to carry everyth
 ing (expect everything in your back-pack to get wet - thus why you need th
 e dry bags)\n	Headtorch (can be bought for like $11 from Anaconda) - in ca
 se we need to walk out in the dark\n\nGear club should have (but bring if 
 you have it): helmet\, harness\, safety sling\, locking carabinerX2\, ATC 
 (or other abseil device)\, prussiks\n\nPlease write in the comments sectio
 n:\n\n	Canyoning experience thus far\n	Medical issues or anything else we 
 should know about\n\n\n\n\n\n&nbsp\;\nBookings
CATEGORIES:Boree Log,Canyoning
END:VEVENT
END:VCALENDAR