BEGIN:VCALENDAR
VERSION:2.0
PRODID:-//wp-events-plugin.com//7.2.3.1//EN
TZID:Australia/Sydney
X-WR-TIMEZONE:Australia/Sydney
BEGIN:VEVENT
UID:2774@unswoc.org
DTSTART;TZID=Australia/Sydney:20201127T090000
DTEND;TZID=Australia/Sydney:20201127T170000
DTSTAMP:20201126T203850Z
URL:https://unswoc.org/wordpress/events/penrith-whitewater-trip/
SUMMARY:Penrith whitewater trip
DESCRIPTION:Super short notice trip to Penrith whitewater facility this Fri
 day. Spots may be extremely limited due to spaces available at Penrith wat
 er times. We’ll organise specific details amongst those attending. Messa
 ge me if you have any questions
CATEGORIES:Whitewater Kayaking
END:VEVENT
BEGIN:VTIMEZONE
TZID:Australia/Sydney
X-LIC-LOCATION:Australia/Sydney
BEGIN:DAYLIGHT
DTSTART:20201004T030000
TZOFFSETFROM:+1000
TZOFFSETTO:+1100
TZNAME:AEDT
END:DAYLIGHT
END:VTIMEZONE
END:VCALENDAR