BEGIN:VCALENDAR
VERSION:2.0
PRODID:-//wp-events-plugin.com//7.2.3.1//EN
TZID:Australia/Sydney
X-WR-TIMEZONE:Australia/Sydney
BEGIN:VEVENT
UID:1518@unswoc.org
DTSTART;VALUE=DATE:20160214
DTEND;VALUE=DATE:20160215
DTSTAMP:20160219T021421Z
URL:https://unswoc.org/wordpress/events/penrith-whitewater-stadium-trip/
SUMMARY:Penrith Whitewater Stadium Trip
DESCRIPTION:SUCC and UNSWOC joint trip to penrith whitewater.
CATEGORIES:Whitewater Kayaking
END:VEVENT
END:VCALENDAR