BEGIN:VCALENDAR
VERSION:2.0
PRODID:-//wp-events-plugin.com//7.2.3.1//EN
TZID:Australia/Sydney
X-WR-TIMEZONE:Australia/Sydney
BEGIN:VEVENT
UID:2617@unswoc.org
DTSTART;TZID=Australia/Sydney;VALUE=DATE:20200228
DTEND;TZID=Australia/Sydney;VALUE=DATE:20200229
DTSTAMP:20200227T110049Z
URL:https://unswoc.org/wordpress/events/penrith-white-water/
SUMMARY:Penrith White Water
DESCRIPTION:We are going to penrith white water statium to have some fun.\n
 \nGet keen
END:VEVENT
BEGIN:VTIMEZONE
TZID:Australia/Sydney
X-LIC-LOCATION:Australia/Sydney
BEGIN:DAYLIGHT
DTSTART:20191006T030000
TZOFFSETFROM:+1000
TZOFFSETTO:+1100
TZNAME:AEDT
END:DAYLIGHT
END:VTIMEZONE
END:VCALENDAR