BEGIN:VCALENDAR
VERSION:2.0
PRODID:-//wp-events-plugin.com//7.2.3.1//EN
TZID:Australia/Sydney
X-WR-TIMEZONE:Australia/Sydney
BEGIN:VEVENT
UID:300@unswoc.org
DTSTART:20130913T220000Z
DTEND:20130914T050000Z
DTSTAMP:20130910T200045Z
URL:https://unswoc.org/wordpress/events/penriff-whit-whataa-penrith-whitew
 ater-stadium-session/
SUMMARY:Penriff Whit-Whataa (Penrith Whitewater stadium Session)
DESCRIPTION:The water will be running form 10:30 till 15:30! That's 5 hours
  of training time guys!\n\nFor all water times click here.\n\nSo\, a group
  from the club are headed down this Saturday. You will need to meet their 
 requirements here.\n\nIf you are wondering if this is the trip for you\, h
 ave a chat with me (James Bultitude) on Facebook or in person this week.\n
 \nCosts $38 for entry and you will need a $20 bib deposit.
LOCATION:Penrith Whitewater Stadium\, \, 
GEO:0.000000;0.000000
X-APPLE-STRUCTURED-LOCATION;VALUE=URI;X-ADDRESS=\, ;X-APPLE-RADIUS=100;X-TI
 TLE=Penrith Whitewater Stadium:geo:0.000000,0.000000
END:VEVENT
END:VCALENDAR