BEGIN:VCALENDAR
VERSION:2.0
PRODID:-//wp-events-plugin.com//7.2.3.1//EN
TZID:Australia/Sydney
X-WR-TIMEZONE:Australia/Sydney
BEGIN:VEVENT
UID:483@unswoc.org
DTSTART;VALUE=DATE:20140614
DTEND;VALUE=DATE:20140616
DTSTAMP:20140526T184118Z
URL:https://unswoc.org/wordpress/events/paddy-pallins-6hr-rogaine-aka-team
 -orienteering/
SUMMARY:Paddy Pallin's 6hr Rogaine (aka. team orienteering)
DESCRIPTION:Hey guys\,\n\nThe annual Paddy Pallin 6hr Rogaine is being held
  this year in Belanglo state forest. If you have no idea what a rogaine is
  - google it! Helpful google will tell you it's a hair loss treatment bu
 t don't be fooled - it's much more exciting than that! :P\n\nIts basicall
 y a team orienteering event held over a number of hours (3\, 6\, 12 or 2
 4hrs)\, where you search for orange flags in the bush\, armed only with a 
 compass and treasure map. This is a great event for first-timers as 6-hrs 
 is a good amount of time to really get a feel for bush navigation\, withou
 t the extra hours of wandering around in the dark.\n\nIf you're keen to tr
 y something new and hone your bush nav skills you should definitely get a 
 team (2-5 people) together and come along. As the event will be held on 
 the Sunday\, and is merely a stone's throw from Bungonia\, a group of us w
 ill probably head down to Friday night for some Saturday Bungonia adventu
 res before arriving at the rogaine early Sunday. Feel free to join and ma
 ke a weekend of it :D\n\nWe will be organising team registrations under UN
 SWOC's name as the club will be subsidising the entry fee (normally $40 co
 ncession\, but $20 will be subsidised). For more info on the event visit:
  http://nswrogaining.org/AboutEvents/Events/14PP/14PP.htm.\n\n&nbsp\;\n\n&
 nbsp\;
CATEGORIES:Bushwalking,Social Event,Training
END:VEVENT
END:VCALENDAR