BEGIN:VCALENDAR
VERSION:2.0
PRODID:-//wp-events-plugin.com//7.2.3.1//EN
TZID:Australia/Sydney
X-WR-TIMEZONE:Australia/Sydney
BEGIN:VEVENT
UID:3024@unswoc.org
DTSTART;TZID=Australia/Sydney;VALUE=DATE:20220619
DTEND;TZID=Australia/Sydney;VALUE=DATE:20220620
DTSTAMP:20220602T002823Z
URL:https://unswoc.org/wordpress/events/paddy-pallin-rogaine-19th-june-202
 2/
SUMMARY:Paddy Pallin Rogaine - 19th June 2022
DESCRIPTION:Did someone say Rogaine!?\nFor those who participated in the re
 latively recent UNSWOC pubgaine\, this is similar\, just substitute the ci
 ty for bush\, the pubs for features on a map and the beer for an electroni
 c tag.\n\nRogaine events are the perfect opportunity to put your navigatio
 n to the test and the 6hr Paddy Pallin events are particularly beginner fr
 iendly :) The 2022 Paddy Pallin Rogain will be taking place in the Bargo S
 tate Conservation Area\, just 1:45 hrs SW of UNSW. More details about roga
 ining and the event can be found at this link.\n\nThe purpose of creating 
 an UNSWOC of the event is to try and encourage as many UNSWOCer's to get i
 nvolved as possible! It means we can help club members find a team and per
 haps even have some friendly intra-club competition \;)\n\nSign up to this
  event if you’re keen and I’ll figure out the teams from there. Once t
 he teams have be sorted\, you'll be responsible for signing up to the offi
 cial event. To cover the costs of running the rogaine\, there is an entry 
 fee of $60 for adults or $40 if you're a full time student.\n\nPlease put 
 in the comments whether you have a car and are able to offer lifts and als
 o whether there's anyone in particular you would like to be in a team with
 . Any questions\, send me (Jenny Stansby) a message on facebook :)\n\nNote
 : sign ups will close on Friday 10th June to allow time to sort out teams 
 and to sign up to the official event.\n\n[caption id="attachment_10377" al
 ign="aligncenter" width="1024"] Start of the Paddy Pallin 2019 Rogaine.[/c
 aption]\n\n&nbsp\;
CATEGORIES:Rogaining
END:VEVENT
BEGIN:VTIMEZONE
TZID:Australia/Sydney
X-LIC-LOCATION:Australia/Sydney
BEGIN:STANDARD
DTSTART:20220403T020000
TZOFFSETFROM:+1100
TZOFFSETTO:+1000
TZNAME:AEST
END:STANDARD
END:VTIMEZONE
END:VCALENDAR