BEGIN:VCALENDAR
VERSION:2.0
PRODID:-//wp-events-plugin.com//7.2.3.1//EN
TZID:Australia/Sydney
X-WR-TIMEZONE:Australia/Sydney
BEGIN:VEVENT
UID:2156@unswoc.org
DTSTART;VALUE=DATE:20170618
DTEND;VALUE=DATE:20170619
DTSTAMP:20170529T235817Z
URL:https://unswoc.org/wordpress/events/paddy-pallin-6hr-rogaine-2017/
SUMMARY:Paddy Pallin 6hr Rogaine - 2017
DESCRIPTION:Hey Everyone.\n\nI have been involved with setting the course f
 or the 6hr Paddy Pallin rogaine event this year. I must say\, it looks to 
 be one of the most pleasant courses I've ever seen. The terrain is mix bet
 ween rolling grazing land and open bush land. A highlight of the course is
  the Wollondilly River which borders the course to the north and the west.
  During course setting I saw Kangaroo's\, Emu's and plenty of Sheep! If y
 ou keep your eye's peeled\, you might even see a Koala or a Platypus.\n\nT
 his is a perfect event for beginners to who want to start learning navig
 ation skills. It is a highly forgiving course and will reward good use of
  a compass\, but won't penalise you if mess up a little.\n\nThe event webs
 ite can be seen here. http://nswrogaining.org/AboutEvents/Events/17PP/17P
 P.htm\n\nI will leave you with some photos of the course.\n\n&nbsp\;\n\n\n
 \n&nbsp\;\n\n \n\n&nbsp\;\n\n&nbsp\;
CATEGORIES:Rogaining
END:VEVENT
END:VCALENDAR