BEGIN:VCALENDAR
VERSION:2.0
PRODID:-//wp-events-plugin.com//7.2.3.1//EN
TZID:Australia/Sydney
X-WR-TIMEZONE:Australia/Sydney
BEGIN:VEVENT
UID:834@unswoc.org
DTSTART:20150613T190000Z
DTEND:20150614T070000Z
DTSTAMP:20150427T005336Z
URL:https://unswoc.org/wordpress/events/paddy-pallin-6-hr-rogaine/
SUMMARY:Paddy Pallin 6 hr Rogaine
DESCRIPTION:The Paddy Pallin 6 hour rogaine is coming up on the 14th of Jun
 e. This event is open to everyone.\n\nRogaining is the sport of long dista
 nce cross-country navigation\, in which teams of two to five people visit 
 as many checkpoints as they wish in a set time period. The traditional Rog
 aine is 24 hours in duration\, however\, there are also shorter events of 
 3\, 6\, 12 and 15 hours. Most NSW events are held within 2 to 3 hours of S
 ydney.  Most rogaines are on foot and held in attractive bush and farmlan
 d locations. However\, some events are held in metropolitan areas (Metroga
 ines)\, or on bikes (Cyclegaines). Rogaining is an adventure sport and is 
 a lot of fun.\n\nCloser to the date\, I will organise everyone into teams 
 (based on fitness and keeness). Register your interest now.\n\n
ATTACH;FMTTYPE=image/jpeg:https://unswoc.org/wordpress/wp-content/uploads/
 2014/03/100.jpg
CATEGORIES:Rogaining
END:VEVENT
END:VCALENDAR