BEGIN:VCALENDAR
VERSION:2.0
PRODID:-//wp-events-plugin.com//7.2.3.1//EN
TZID:Australia/Sydney
X-WR-TIMEZONE:Australia/Sydney
BEGIN:VEVENT
UID:2021@unswoc.org
DTSTART;VALUE=DATE:20160619
DTEND;VALUE=DATE:20160620
DTSTAMP:20160520T003815Z
URL:https://unswoc.org/wordpress/events/paddy-pallin-6-hr-rogaine-2/
SUMMARY:Paddy Pallin 6 hr Rogaine
DESCRIPTION:The Paddy Pallin 6 Hr Rogaine is coming up on the 19th of June.
  Sign up here. Teams will be organised in Early June.\n\nMore information 
 at:\n\nhttp://nswrogaining.org/AboutEvents/Events/16PP/16PP.htm\n\n
END:VEVENT
END:VCALENDAR