BEGIN:VCALENDAR
VERSION:2.0
PRODID:-//wp-events-plugin.com//7.2.3.1//EN
TZID:Australia/Sydney
X-WR-TIMEZONE:Australia/Sydney
BEGIN:VEVENT
UID:2595@unswoc.org
DTSTART;TZID=Australia/Sydney;VALUE=DATE:20191229
DTEND;TZID=Australia/Sydney;VALUE=DATE:20191230
DTSTAMP:20191228T055302Z
URL:https://unswoc.org/wordpress/events/paddling-at-penrith-whitewater/
SUMMARY:Paddling at Penrith Whitewater
DESCRIPTION:\n\nHey!\n\nI will be taking some people to Penrith to practice
 /learn whitewater skills. The water is running for three hours starting at
  10:30 and finishing at 1:30. This trip is for intermediate/competent padd
 lers\, so if you have been to Penrith before feel free to come along.\n\nW
 hat to bring:\n\n 	wet clothes\n 	dry clothes\n 	water\n 	lunch/snacks\n 	
 sunscreen\n 	towel\n 	shoes that can get wet/dry shoes\n 	$20 cash for a b
 ib deposit\n\nThe club can provide a boat\, paddle\, spray deck\, lifejack
 et\, and helmet.\n\nIf you can't make it to Penrith on your own PM me so w
 e can organize lifts.\n\nIf you are driving your self down try to arrive b
 y 10:15 so you don't wast any water time.\n\n&nbsp\;
CATEGORIES:Whitewater Kayaking
END:VEVENT
BEGIN:VTIMEZONE
TZID:Australia/Sydney
X-LIC-LOCATION:Australia/Sydney
BEGIN:DAYLIGHT
DTSTART:20191006T030000
TZOFFSETFROM:+1000
TZOFFSETTO:+1100
TZNAME:AEDT
END:DAYLIGHT
END:VTIMEZONE
END:VCALENDAR