BEGIN:VCALENDAR
VERSION:2.0
PRODID:-//wp-events-plugin.com//7.2.3.1//EN
TZID:Australia/Sydney
X-WR-TIMEZONE:Australia/Sydney
BEGIN:VEVENT
UID:2447@unswoc.org
DTSTART;TZID=Australia/Sydney:20190810T083000
DTEND;TZID=Australia/Sydney:20190811T083000
DTSTAMP:20190803T095359Z
URL:https://unswoc.org/wordpress/events/overnight-kayaking-to-the-royal-na
 tional-park/
SUMMARY:Overnight kayaking to the Royal National Park
DESCRIPTION:Hey team!\n\nEvie and I(Ping) are running an overnight kayaking
  trip from Bundeena to Garie Beach (where we will camp for the night) in t
 he Royal National Park this weekend.\n\nIts a 13km paddle on the TimTam sc
 ale\, so if ideally you will have some paddling experience.\n\nWe will be 
 meeting at the UNSW Tramsheds (not the gear cupboard) at 8.30am on Saturda
 y morning and returning Sunday afternoon.\n\nPlaces are dependent on cars 
 with roof-racks.\n\nPlease message either Evie or myself (Ping) with your 
 paddling experience and ability to bring a car with roof racks!\n\nThings 
 to bring:\n\nTent\n\nSleeping mat\n\nSleeping bag\n\nFood for 1 dinner\, 1
  breaky and 2 lundies + snacks\n\n6L of water\n\nRain jacket (That can get
  wet)\n\nWarm jacket for paddling\n\nWarm jacket for camp\n\nWarm thermals
 \n\nDry bags (Can borrow from club)\n\nDry change of clothing\n\nEnthusias
 m\n\nHumour
CATEGORIES:Sea Kayaking
END:VEVENT
BEGIN:VTIMEZONE
TZID:Australia/Sydney
X-LIC-LOCATION:Australia/Sydney
BEGIN:STANDARD
DTSTART:20190407T020000
TZOFFSETFROM:+1100
TZOFFSETTO:+1000
TZNAME:AEST
END:STANDARD
END:VTIMEZONE
END:VCALENDAR