BEGIN:VCALENDAR
VERSION:2.0
PRODID:-//wp-events-plugin.com//7.2.3.1//EN
TZID:Australia/Sydney
X-WR-TIMEZONE:Australia/Sydney
BEGIN:VEVENT
UID:3249@unswoc.org
DTSTART;TZID=Australia/Sydney;VALUE=DATE:20230429
DTEND;TZID=Australia/Sydney;VALUE=DATE:20230501
DTSTAMP:20230425T233432Z
URL:https://unswoc.org/wordpress/events/overnight-kayak-marramarra/
SUMMARY:Intermediate overnight kayak - Hakwesbury to Marramarra creek
DESCRIPTION:Please read the entire post and answer all questions before sig
 ning up.\n\nHi all!\n\nWant to be near the water but sick of canyoning? Lo
 ve the overnighters and hate the bush bash? Well we have a trip for you.\n
 \nDaniel and I (Katie) are running an overnight trip kayaking from the Ha
 wkesbury river up to Marramarra creek return. Be prepared for two days int
 ense kayaking\, visiting a shipwreck (the HMAS Parramatta) and a loevly ni
 ght camping next to our kayaks on the banks of Marramarra creek\n\nPartici
 pants need to be competent swimmers\, good at kayaking + handling cold wat
 er\, and prepared (mentally) for two big days of kayaking (17km days). Due
  to having to transport kayaks\, preference will be given to those with ca
 rs and roof racks\, and we can increase numbers if people have their own s
 ea kayak and a way to transport.\n\nPLEASE comment in the comment section 
 if you have a car and roof racks and what type of kayak you have if you ow
 n one. we also will need help picking kayaks up from the tramshed on thurs
 day.\n\nInfo about the trip can be found here\, and here. I'll post a full
  map and plan with meeting time in the group chat when its set up.\n\n\n\n
  	Kayaking gear that will be provided:\n\n 	Kayak (sea kayaks only)\n 	Pad
 dles\n 	Life jackets\n 	Wetsuits (please comment your size)\n\n\n\n\n 	Gea
 r not provided:\n\n 	Emergency blanket You can buy one from the gear cupbo
 ard for $5 cash or most outdoor stores)\n 	Backpack that can fit your gear
  inside and will fit within the inner compartment of the sea kayak\n 	Dryb
 ags (we'll be in a river and you will fall out!)\n 	Overnight hiking gear 
 - tents\, sleeping mat\, sleeping bag\, cooking equipment\, headtorch\n\n\
 n\n\n 	Clothing:\n\n 	Enclosed shoes/sandals\n 	Hat\, sunglasses &amp\; su
 nscreen\n 	Wool socks\n 	Thermals\n 	Raincoat or windbreaker regardless of
  weather\n 	Overnight warm clothing\n 	NO COTTON!\n\n\n 	Food:\n\n 	2L of 
 water in bottles.\n 	Two days of food\n 	Snacks (chocolate or something ni
 ce to share!)\n\n\n 	Miscellaneous:\n\n 	Any personal medicine (asthma puf
 fer\, Epipen etc)\n 	A pair of thongs/flipflops (jandals if you're a kiwi 
 like me) for walking around on the island if not keen to bring your full o
 n hiking boots (since your shoes will get wet)\n 	Phone or camera for phot
 os (optional\, and only if you’re prepared for it to get wet if your dry
 bag leaks! Bring a ziploc bag or two to protect it)\n\n\n\nIf you have any
  questions give myself or Daniel a message on Facebook.\n\nOnce again plea
 se let us know in the comments:\n\n 	If you have a car and roofracks\n 	Yo
 ur kayaking/swimming experience\n 	If you have your own kayak and what typ
 e it is\n 	Also please comment with the longest kayak you have done before
 \n\n&nbsp\;\n\nDo not fear\, if you miss out on the trip I will be running
  another later in the year!\n\nThanks Alfie for the event template!
ATTACH;FMTTYPE=image/jpeg:https://unswoc.org/wordpress/wp-content/uploads/
 2023/04/file-1.webp
CATEGORIES:Flat Water Kayaking,Kayaking
END:VEVENT
BEGIN:VTIMEZONE
TZID:Australia/Sydney
X-LIC-LOCATION:Australia/Sydney
BEGIN:STANDARD
DTSTART:20230402T020000
TZOFFSETFROM:+1100
TZOFFSETTO:+1000
TZNAME:AEST
END:STANDARD
END:VTIMEZONE
END:VCALENDAR