BEGIN:VCALENDAR
VERSION:2.0
PRODID:-//wp-events-plugin.com//7.2.3.1//EN
TZID:Australia/Sydney
X-WR-TIMEZONE:Australia/Sydney
BEGIN:VEVENT
UID:2396@unswoc.org
DTSTART:20190329T210000Z
DTEND:20190330T210000Z
DTSTAMP:20200126T222814Z
URL:https://unswoc.org/wordpress/events/overnight-hiking-royal-national-pa
 rk/
SUMMARY:Overnight Hiking - Royal National Park
DESCRIPTION:Hey team!\n\nAre you itching to get back into the outdoors afte
 r Boree Log? Keen do some hiking in the 3rd oldest national park in the wo
 rld? Enjoy one of the most beautiful spots in all of Australia?\n\nLook no
  further! This is the trip for you!\n\nSo the plan is to meet at central s
 tation at 8:10am to catch the 8:23 train ($4.50) to Cronulla. (Be mindful 
 that we will leave you behind if you are late to the train station) From C
 ronulla\, we take a ferry to Bundeena ($6.40 cash) where the walk begins.\
 n\nThe first day is 18 km\, around 7 hours of walking from Bundeena to Nor
 th Era camp ground ($4 camping fee) where we will be camping (passing wedd
 ing cake rock\, Watermalla and a bunch of other cool things).\n\nThe secon
 d day is very short with only 8 km till Otford (passing figure 8 pools and
  such) where we will be catching a train back to Sydney.We will be aiming 
 to be back to Sydney mid-afternoon.\n\nThis is not a difficult hike but fi
 tness is required.\n\nPlease Facebook message either Glenn or myself (Ping
 ) when you request a place on the trip. (If you also message us a joke\, y
 our chances of getting on the trip increases by 17%.)\n\nOnce the numbers 
 have been finalised\, we will divide into tent/food groups so that we don
 ’t waste energy carry excess stuff.\n\nYou’ll need:\n\n 	Hiking pack\n
  	Tent (one per group)\n 	Sleeping bag/mat\n 	Food (TBD within your group)
 \n 	Cooking Stove (one per group\, can be borrowed from gear cupboard)\n 	
 WATER (bring at least 3L)\n 	Warm clothes (thermals are essential\, it’s
  might get cold overnight)\n 	Rain Jacket\n 	Comfortable shoes\n 	Toiletri
 es etc\n\nGet keen!!!!\n\nPing &amp\; Glenn out
CATEGORIES:Hectic Hiking
END:VEVENT
END:VCALENDAR