BEGIN:VCALENDAR
VERSION:2.0
PRODID:-//wp-events-plugin.com//7.2.3.1//EN
TZID:Australia/Sydney
X-WR-TIMEZONE:Australia/Sydney
BEGIN:VEVENT
UID:2404@unswoc.org
DTSTART:20190426T200000Z
DTEND:20190428T070000Z
DTSTAMP:20190422T011221Z
URL:https://unswoc.org/wordpress/events/overnight-hike-to-acacia-flats/
SUMMARY:Overnight hike to acacia flats
DESCRIPTION:Glen and I will be running a quick overnight down into the blue
  gum forest.\nReasonably easy time wise but a good level of fitness is a m
 ust (its a long way down and a long way back up again)\nWe will leave Sydn
 ey on Saturday morning early and hopefully be back for dinner on Sunday ni
 ght. \nIf you have a car let me know\n\npacking list\nHEAD TORCH\nWARM JAC
 KET\nSOME FORM OF WATER PURIFICATION (even if it's just boiling) \nmozzie 
 repellent\nsun protection\nhiking pack\ntent\nsleeping mat and bag\nlightw
 eight food\nstove and gas (if you want hot food)\nPlease only bring essent
 ials!\nGive me a message if you have any questions\nCheers\nMira\n\n
END:VEVENT
END:VCALENDAR