BEGIN:VCALENDAR
VERSION:2.0
PRODID:-//wp-events-plugin.com//7.2.3.1//EN
TZID:Australia/Sydney
X-WR-TIMEZONE:Australia/Sydney
BEGIN:VEVENT
UID:2429@unswoc.org
DTSTART;TZID=Australia/Sydney;VALUE=DATE:20190629
DTEND;TZID=Australia/Sydney;VALUE=DATE:20190701
DTSTAMP:20190625T042307Z
URL:https://unswoc.org/wordpress/events/overnight-hike-pearl-beach-to-mt-w
 ondabyne-brisbane-water-national-park-2/
SUMMARY:Overnight Hike - Pearl Beach to Mt Wondabyne\, Brisbane Water Natio
 nal Park
DESCRIPTION:This weekend\, Cameron and I are leading a cruisy overnight hik
 e to Brisbane Water National Park (nowhere near Brisbane)\, walking from P
 earl Beach to Mt Wondabyne Campsite along a section of the Great North Wal
 k. Get keen for some spectacular ocean and Hawkesbury views and a good tim
 e!\n\nIt shouldn't be too arduous but covers a bit of ground so let us kno
 w your hiking experience in the comments (all g if you are a beginner tho!
 ). We are planning to drive to the start of the hike (Pearl Beach) and ret
 urn the next day so please also let us know if you are able to drive peopl
 e!\n\nYou will need:\n\n 	Hiking boots/shoes\n 	Tent\n 	Sleeping mat\n 	Sl
 eeping bag (that will actually keep you warm)\n 	Warm clothes\n 	Rain gear
 \n 	Head torch (with batteries)\n 	Food for 2x lunch\, 1x breakfast\, 1x d
 inner\n 	stove and gas for cooking\n 	MINUMUM 4 litres of water (NB. There
  may be very limited to no water along the hike)\n 	Personal first aid kit
 \n 	Toothbrush and toiletries\n 	sunscreen/hat/sunnies\n\nPick up anything
  you need at gear night\, or shoot one of us a message if you have any que
 stions or queries!\n\nEvie &amp\; Cameron
END:VEVENT
BEGIN:VTIMEZONE
TZID:Australia/Sydney
X-LIC-LOCATION:Australia/Sydney
BEGIN:STANDARD
DTSTART:20190407T020000
TZOFFSETFROM:+1100
TZOFFSETTO:+1000
TZNAME:AEST
END:STANDARD
END:VTIMEZONE
END:VCALENDAR