BEGIN:VCALENDAR
VERSION:2.0
PRODID:-//wp-events-plugin.com//7.2.3.1//EN
TZID:Australia/Sydney
X-WR-TIMEZONE:Australia/Sydney
BEGIN:VEVENT
UID:2280@unswoc.org
DTSTART;VALUE=DATE:20180908
DTEND;VALUE=DATE:20180910
DTSTAMP:20180904T232654Z
URL:https://unswoc.org/wordpress/events/overnight-hike-mount-solitary/
SUMMARY:Overnight Hike: Mount Solitary
DESCRIPTION:Come join us for an overnight hike up on Mount Solitary!\n\nWe'
 ll be driving from Sydney early Saturday morning and coming back Sunday af
 ternoon/night.\n\nThis is the hike we'll be doing\, we'll be doing from Sc
 enic Railway to Mt Solitary and return from there. (We'll be making camp 
 on the top of Mount Solitary\, so it'll potentially be windy and cold)\n\n
 It's not a massively long hike (about 25km total) but is very hilly\, so s
 ome fitness/experience will be necessary\, please message one of us (Greta
  Ritchard\, Stephen Roche\, Mira Bug) with your experience and if you requ
 ire any gear\, it'll need to be picked up on gear night.\n\nAdditionally\,
  if you have a car you can drive up that would be very helpful\, so please
  let us know!\n\nYou'll need:\n\n 	Hiking pack\n 	Tent (or someone to shar
 e with)\n 	Sleeping bag/mat\n 	Food for two days\n 	WATER (bring at least 
 4L\, as we're in drought so no guarantee of anywhere to fill up)\n 	Warm c
 lothes (thermals are essential\, it's might be sub-zero overnight)\n 	Comf
 ortable shoes\n 	Toiletries etc\n\nLet us know\, should be a fun weekend!\
 n\n&nbsp\;
CATEGORIES:Bushwalking,Hectic Hiking
END:VEVENT
END:VCALENDAR