BEGIN:VCALENDAR
VERSION:2.0
PRODID:-//wp-events-plugin.com//7.2.3.1//EN
TZID:Australia/Sydney
X-WR-TIMEZONE:Australia/Sydney
BEGIN:VEVENT
UID:3267@unswoc.org
DTSTART;TZID=Australia/Sydney;VALUE=DATE:20230624
DTEND;TZID=Australia/Sydney;VALUE=DATE:20230626
DTSTAMP:20230613T232527Z
URL:https://unswoc.org/wordpress/events/overnight-hike-into-the-wild-dog-m
 ountains/
SUMMARY:Overnight Hike - Into the wild dog mountains
DESCRIPTION:Come along for an overnight hike with Jenny and myself. This hi
 ke has a little bit of everything\, cool trees\, bush bashing\, caves and 
 a beautiful sunset/sunrise lookout. The wild dog mountains have a great wi
 lderness feel and are one of my favorite weekend spots.\n\nLeaving from Du
 nphys campground and heading south towards Kanangra. We will be camping in
  a spot that is walk in only so here is a chance to test how heavy your ge
 ar is! Happy to take Keen beginners and intermediates!\n\nWe will be leavi
 ng Dunphy at 9:30 on Saturday morning and returning Sunday evening.\n\nYou
  will need to carry:\n\n- One night/two days of food\n\n- Tent\n\n- Sleepi
 ng bag and sleeping mat\n\n- Seriously warm jacket\, thermals\, woolen soc
 ks\, beanie and gloves\n\n- Stove\, gas\, pot and utensil\n\n- Water purif
 ication tabs or filter\n\n- Toilet paper\n\nAnd this all needs to be packe
 d in one comfy bag!\n\nYou will also need good runners or boots and comfy 
 walking clothes.\n\n&nbsp\;\n\nAs its just after solstice it will be serio
 usly cold. Like seriously. It will be compulsory to have thermals and warm
  jacket.\n\n&nbsp\;\n\nWe will also have to confirm the weather closer to 
 the day.\n\n&nbsp\;\n\nPlease put in the comments:\n\n- If you have a car 
 you can drive/how many people.\n\n- If your happy walking 15 km with a pac
 k\n\n- And what your favorite trail snack is!\n\n&nbsp\;\n\nAny questions 
 please send me a message (Mira Bug on fb) or catch me at the AGM next Wedn
 esday!\n\nSee you there!\n\n&nbsp\;\n\nLast trip to Wild Dog mountains\, I
  promise the horizon is actually straight in real life. 
ATTACH;FMTTYPE=image/jpeg:https://unswoc.org/wordpress/wp-content/uploads/
 2023/06/000037010027_27-scaled.jpg
END:VEVENT
BEGIN:VTIMEZONE
TZID:Australia/Sydney
X-LIC-LOCATION:Australia/Sydney
BEGIN:STANDARD
DTSTART:20230402T020000
TZOFFSETFROM:+1100
TZOFFSETTO:+1000
TZNAME:AEST
END:STANDARD
END:VTIMEZONE
END:VCALENDAR