BEGIN:VCALENDAR
VERSION:2.0
PRODID:-//wp-events-plugin.com//7.2.3.1//EN
TZID:Australia/Sydney
X-WR-TIMEZONE:Australia/Sydney
BEGIN:VEVENT
UID:2160@unswoc.org
DTSTART;VALUE=DATE:20170812
DTEND;VALUE=DATE:20170814
DTSTAMP:20170808T044044Z
URL:https://unswoc.org/wordpress/events/overnight-hike-castle-budawangs/
SUMMARY:Overnight Hike: The Castle\, Budawangs
DESCRIPTION:Hey all!\n\nNext weekend Liam and i want to go on a proper adve
 nture. Day 1 will be a 10km hike to Cooyoyo Creek\, where will we camp at 
 the base of the Castle. On day 2\, we will wake up early\, make the expose
 d scramble to the top of the Castle\, then retrace our steps back to the c
 ars. The scramble up to the top is somewhat challenging and you'll need so
 lid footing and a good head for heights. If you feel too intimidated when 
 we get there\, you are welcome to sleep in\, chill out and mind the bags w
 hile the keen beans climb the castle.\n\n\n\nHave a look here for more inf
 o.\n\nWe will leave at 7am on Saturday morning\, and drive ~3.5 hours to Y
 adboro\, our access point to the walk. Expect to arrive home late on Sunda
 y night. At this point\, we need more drivers\, so if you have a car and 
 are willing to drive please let us know! PAssengers in your car will split
  petrol costs.\n\nWhat you'll need:\n\n	Hking Pack\n	Tent\n	Sleeping bag\n
 	Sleeping mat\n	Warm clothes: Jacket\, pants\, thermal layers\, hat\, glov
 es\n	Rain jacket (forecast dependent)\n	You must bring all your food for t
 he two day hike (2x lunch\, 1x breakfast\, 1xdinner\, lots of snacks!)\n\
 n	breakfast ideas: porridge/bread product with peanut butter\, coffee\n	lu
 nch ideas: wraps with tuna\, avocado\, cheese\, dip (whatever you like)\n	
 dinner ideas: couscous\, lentils\, instant rice\, or more wraps if you don
 t have a stove\n	snacks: trail mix\, chocolate\, muesli bars\, cookies\n	h
 iking stove (if you have it/want it)\n\n\n	Water: there should be water in
  a creek at the campsite so 2L water for the first day should be enough. B
 ring water purification tablets or be ready to boil water from the creek i
 f you choose to drink it\n	headtorch or flashlight\n	Good hiking shoes\n\n
 NOTE: please don't carry much else! If your pack is over about 12kg you wi
 ll find walking up hills very strenuous! if you can organise to share a te
 nt with somebody else\, please do! you will thank me later.\n\n
END:VEVENT
END:VCALENDAR