BEGIN:VCALENDAR
VERSION:2.0
PRODID:-//wp-events-plugin.com//7.2.3.1//EN
TZID:Australia/Sydney
X-WR-TIMEZONE:Australia/Sydney
BEGIN:VEVENT
UID:2449@unswoc.org
DTSTART;TZID=Australia/Sydney;VALUE=DATE:20190810
DTEND;TZID=Australia/Sydney;VALUE=DATE:20190812
DTSTAMP:20190805T093804Z
URL:https://unswoc.org/wordpress/events/overnight-hike-blackheath-to-blue-
 gum-loop/
SUMMARY:Overnight Hike: Blackheath to Blue Gum Loop
DESCRIPTION:This weekend\, Glen and I (Nic) will be doing the overnight Bla
 ckheath to Blue Gum Loop.\n\nThis is a moderately challenging overnight hi
 ke in the blueys and will include some lovely views of the mountains\, wat
 erfalls and you guessed it – a walk through the Blue Gum Forrest. All in
  all should be a pretty amazing trip.\n\nHere’s the track notes:\n\nhttp
 ://www.wildwalks.com/bushwalking-and-hiking-in-nsw/blue-mountains-blackhea
 th-/blackhealth-to-blue-gum-loop.html\n\nWe’ll be starting and ending in
  Blackheath train station so we’ll catch the train in from Central and y
 ou can get on at whichever train station is closer.\n\nAnd as we will be c
 atching public transport\, there will be no place to leave gear so please 
 follow the packing list strictly – definitely bring the essentials and l
 eave the non-essentials.\n\n 	tent\n 	sleeping mat and sleeping bag (comfo
 rtable to at least 0 degrees)\n 	warm clothes\n 	rain jacket\n 	head torch
 \n 	food for 2 lunches and a dinner\n 	stove and gas for cooking these mea
 ls\n 	at least 3 litres of water\n 	first aid kit\n 	toothbrush\n 	sunscre
 en/hat/sunnies\n 	Good vibes\n\nIf you are unsure as to if you should brin
 g something just message one of us.\n\nComment with your hiking experience
  and your favourite snack 👍
ATTACH;FMTTYPE=image/jpeg:https://unswoc.org/wordpress/wp-content/uploads/
 2019/08/Blue-Gum-Walk.png
CATEGORIES:Hectic Hiking
END:VEVENT
BEGIN:VTIMEZONE
TZID:Australia/Sydney
X-LIC-LOCATION:Australia/Sydney
BEGIN:STANDARD
DTSTART:20190407T020000
TZOFFSETFROM:+1100
TZOFFSETTO:+1000
TZNAME:AEST
END:STANDARD
END:VTIMEZONE
END:VCALENDAR