BEGIN:VCALENDAR
VERSION:2.0
PRODID:-//wp-events-plugin.com//7.2.3.1//EN
TZID:Australia/Sydney
X-WR-TIMEZONE:Australia/Sydney
BEGIN:VEVENT
UID:2423@unswoc.org
DTSTART;VALUE=DATE:20190622
DTEND;VALUE=DATE:20190624
DTSTAMP:20190623T040809Z
URL:https://unswoc.org/wordpress/events/overnight-hike-blackheath-blue-gum
 -loop/
SUMMARY:Overnight Hike: Blackheath to Blue Gum Loop
DESCRIPTION:This weekend\, Glen and I (Nic) will be doing the overnight Bla
 ckheath to Blue Gum Loop.\n\nThis is a moderately challenging overnight hi
 ke in the blueys - some fitness required. Will include some lovely views o
 f the mountains\, waterfalls and you guessed it - a walk through the Blue 
 Gum Forrest. Here’s the track notes:\n\nhttp://www.wildwalks.com/bushwal
 king-and-hiking-in-nsw/blue-mountains-blackheath-/blackhealth-to-blue-gum-
 loop.html\n\nWe’ll be starting and ending in Blackheath train station so
  we’ll catch the train in from Central and you can get on at whichever t
 rain station is closer.\n\nAnd as we will be catching public transport\, t
 here will be no place to leave gear so please follow the packing list stri
 ctly - definitely bring the essentials and leave the non-essentials.\n\n 	
 tent\n 	sleeping mat and sleeping bag (comfortable to at least 0 degrees)\
 n 	warm clothes\n 	rain jacket\n 	head torch\n 	food for 2 lunches and a d
 inner\n 	stove and gas for cooking these meals\n 	at least 3 - 4 litres of
  water\n-&gt\; seriously\, if you turn up without enough water you will be
  turned away at the beginning of the trip.\n 	first aid kit\n 	toothbrush\
 n 	sunscreen/hat/sunnies\n 	Good vibes\n\nIf you are unsure as to if you s
 hould bring something just message one of us.\n\nComment with your hiking 
 experience and your favourite snack 👍\n\nCheers\nNic and Glen\n\nPs tha
 nks Mira for the trip template
CATEGORIES:Hectic Hiking
END:VEVENT
END:VCALENDAR