BEGIN:VCALENDAR
VERSION:2.0
PRODID:-//wp-events-plugin.com//7.2.3.1//EN
TZID:Australia/Sydney
X-WR-TIMEZONE:Australia/Sydney
BEGIN:VEVENT
UID:2673@unswoc.org
DTSTART;TZID=Australia/Sydney;VALUE=DATE:20200711
DTEND;TZID=Australia/Sydney;VALUE=DATE:20200712
DTSTAMP:20200710T235554Z
URL:https://unswoc.org/wordpress/events/overflow-beginner-intermediate-out
 door-climbing-trip-saturday-11th/
SUMMARY:OVERFLOW Beginner/Intermediate Outdoor Climbing Trip - SATURDAY 11t
 h
DESCRIPTION:Due to high demand Ash and I will be running a climbing trip th
 is Saturday to the Blue Mountains. The plan is to climb at Megalong Valley
 \, Mr Big Area!\n\n 	The plan: leaving Sydney early on Saturday and back i
 n the evening. If you can't get a lift\, we can pick you up from Blackheat
 h station.\n 	The gear: you'll need a HELMET\, HARNESS\, and climbing SHOE
 S. They can be borrowed from the gear cupboard at UNSW (for free\, but bri
 ng a small $ deposit)\, please check the Facebook page to find out when th
 e gear cupboard opens. If you have your own gear\, bring it of course!\n 	
 The rest: bring warm clothes\, enclosed comfortable shoes for the hike in\
 , water (2L) and food for the day\, any personal meds\, a phone full of ba
 ttery\, and a headtorch (we sometimes finish in the dark so the walkout ma
 y be in the dark).\n\nDISCLAIMER: If you are sick\, have been in contact w
 ith a COVID case\, or have been to Vitoria or overseas in the past 2 weeks
 \, you CANNOT attend this trip\, unfortunately. Hand sanitizer will be pro
 vided\, let's keep safe &lt\;3\n\nAny questions\, message me on Facebook!\
 n\nJenny and Ash
ATTACH;FMTTYPE=image/jpeg:https://unswoc.org/wordpress/wp-content/uploads/
 2019/10/pic1.jpeg
CATEGORIES:Outdoor Climbing
END:VEVENT
BEGIN:VTIMEZONE
TZID:Australia/Sydney
X-LIC-LOCATION:Australia/Sydney
BEGIN:STANDARD
DTSTART:20200405T020000
TZOFFSETFROM:+1100
TZOFFSETTO:+1000
TZNAME:AEST
END:STANDARD
END:VTIMEZONE
END:VCALENDAR